BEGIN:VCALENDAR
VERSION:2.0
PRODID:-//wp-events-plugin.com//7.2.3.1//EN
TZID:Europe/Warsaw
X-WR-TIMEZONE:Europe/Warsaw
BEGIN:VEVENT
UID:11776@night4u.pl
DTSTART;TZID=Europe/Warsaw:20190405T220000
DTEND;TZID=Europe/Warsaw:20190406T050000
DTSTAMP:20190403T193919Z
URL:https://night4u.pl/wydarzenia/morowy-piatek-x-5-04/
SUMMARY:Morowy piątek x 5.04
DESCRIPTION:⚡️MOROWY??\n\n⚡️Anioł stróż Wysokich Tonów a do teg
 o jeden z najlepszych djów w tym kraju ????\n\n⚡️To będzie naprawdę
  Morowy piątek bo on stanie za sterami naszej DJ'jki  ?i rozpali tę noc 
 milionem dźwięków  ???\n\n⚡️Start 22:00 ?\nwstęp / ze względu na 
 komfort i bezpieczeństwo naszych gości zastrzegamy sobie prawo do selekc
 ji\n\n⚡️Rezerwacje ☎️692 592 594☎️\n\n??Do zobaczenia w Wysoki
 ch??
ATTACH;FMTTYPE=image/jpeg:https://night4u.pl/wp-content/uploads/2019/04/30
 247_image_56189840_2335659160044332_2544552846234222592_o.jpg
CATEGORIES:podlaskie
LOCATION:Wysokie Tony\, Marii Skłodowskiej Curie 2\, Białystok\, 15-097\,
  Poland
GEO:53.12982;23.15624
X-APPLE-STRUCTURED-LOCATION;VALUE=URI;X-ADDRESS=Marii Skłodowskiej Curie 2
 \, Białystok\, 15-097\, Poland;X-APPLE-RADIUS=100;X-TITLE=Wysokie Tony:ge
 o:53.12982,23.15624
END:VEVENT
BEGIN:VTIMEZONE
TZID:Europe/Warsaw
X-LIC-LOCATION:Europe/Warsaw
BEGIN:DAYLIGHT
DTSTART:20190331T030000
TZOFFSETFROM:+0100
TZOFFSETTO:+0200
TZNAME:CEST
END:DAYLIGHT
END:VTIMEZONE
END:VCALENDAR