BEGIN:VCALENDAR
VERSION:2.0
PRODID:-//wp-events-plugin.com//7.2.3.1//EN
TZID:Europe/Warsaw
X-WR-TIMEZONE:Europe/Warsaw
BEGIN:VEVENT
UID:32729@night4u.pl
DTSTART;TZID=Europe/Warsaw:20191121T200000
DTEND;TZID=Europe/Warsaw:20191121T220000
DTSTAMP:20200331T205556Z
URL:https://night4u.pl/wydarzenia/morrison-tres-koncert-widowisko-hold-leg
 endom-rocka-60-70-2/
SUMMARY:Morrison Tres - koncert-widowisko / hołd legendom rocka 60./70.
DESCRIPTION:Jedyne w Polsce koncert-widowisko oddające legendarny klimat k
 oncertów rockowych lat 60. i 70.! \nNajwiększe przeboje the Doors oraz 
 łączące poezję i rocka utwory autorskie. Psychodeliczne animacje tworz
 one na żywo i inscenizacje teatralne... Zapraszamy na wirtuozerskie i spe
 ktakularne show!\n\nWystąpią:\nWITEK ŁUKASZEWSKI\ncharyzmatyczny wokali
 sta\, wirtuoz gitary\, autor poczytnych powieści o Led Zeppelin\, Jimim H
 endrixie\, Jimie Morrisonie\n/// wokal\, gitary\, flety\, gongi \n\nSAMBOR
  DUDZIŃSKI\naktor-performer\, multiinstrumentalista\, dwukrotny laureat P
 rzeglądu Piosenki Aktorskiej\, odtwórca głównej roli w głośnym spekt
 aklu „Morrison-Śmiercisyn” \n/// wokal\, instrumenty klawiszowe i per
 kusyjne\, saksofon\, duduk \n\nMARIUSZ BOBKOWSKI\nznakomity perkusista leg
 endarnej grupy Turbo\n/// perkusja\, instrumenty perkusyjne\n\nZachwycają
 cy klimat koncertu wzmacniają animacje tworzone na żywo przez Ewę Dymek
  Dudzińską oraz fragmenty inscenizacji teatralnej wykonaniu aktora-perfm
 ormera\, Sambora Dudzińskiego.\n\nTrasa koncertowa promuje concept album 
 Zespołu - "12 Godzin" (premiera we wrześniu 2019 r.) oraz powieść musi
 cal fiction Witka Łukaszewskiego "Jim Morrison &amp\; Pablo Picasso - dia
 logi".\n\nWięcej informacji o Zespole: www.facebook.com/MorrisonTres
ATTACH;FMTTYPE=image/jpeg:https://night4u.pl/wp-content/uploads/2019/10/79
 948_image_67382136_2302178026518507_2784278477379993600_o.jpg
CATEGORIES:dolnośląskie
LOCATION:Stary Klasztor\, Purkyniego 1\, Wroclaw\, 50-155\, Poland
GEO:51.110198;17.039162
X-APPLE-STRUCTURED-LOCATION;VALUE=URI;X-ADDRESS=Purkyniego 1\, Wroclaw\, 50
 -155\, Poland;X-APPLE-RADIUS=100;X-TITLE=Stary Klasztor:geo:51.110198,17.0
 39162
END:VEVENT
BEGIN:VTIMEZONE
TZID:Europe/Warsaw
X-LIC-LOCATION:Europe/Warsaw
BEGIN:STANDARD
DTSTART:20191027T020000
TZOFFSETFROM:+0200
TZOFFSETTO:+0100
TZNAME:CET
END:STANDARD
END:VTIMEZONE
END:VCALENDAR