BEGIN:VCALENDAR
VERSION:2.0
PRODID:-//wp-events-plugin.com//7.2.3.1//EN
TZID:Europe/Warsaw
X-WR-TIMEZONE:Europe/Warsaw
BEGIN:VEVENT
UID:3718@night4u.pl
DTSTART;TZID=Europe/Warsaw:20190127T180000
DTEND;TZID=Europe/Warsaw:20190127T190000
DTSTAMP:20190414T211549Z
URL:https://night4u.pl/wydarzenia/most-2019-w-mdk-dragon/
SUMMARY:MOST 2019 w MDK Dragon
DESCRIPTION:Miła Orkiestra Smyczkowych Transformacji zaprasza na koncert k
 olędowy!!! :)\n\nDragon Social Club\, ul Zamkowa 3\, Scena MDK\n27.01.201
 9\, 18:00\nCzas trwania koncertu - ok. 60 minut\nWSTĘP WOLNY!!!\n\nMOST t
 o projekt niezwykły - jego większość stanowią osoby\, które zaczęł
 y uczyć się grać na skrzypcach od zera jako osoby dorosłe.\nTak zaczyn
 aliśmy:\n\n\nTak się rozwinęliśmy:\n\n\nPo koncercie zapraszamy do int
 egracji z muzykami. :)\n\nJeśli marzyliście kiedyś o sięgnięciu po in
 strument muzyczny\, ale nie mieliście dość odwagi\, jesteście ciekawi 
 jak wygląda nauka od zera i na czym polega organizacja orkiestry lub po p
 rostu chcecie nas poznać bliżej - będziemy tam dla Was\, pytajcie :)\n\
 nA tak wygląda nasz backstage :)\n\n\nMile zapraszamy! :)
ATTACH;FMTTYPE=image/jpeg:https://night4u.pl/wp-content/uploads/2019/01/11
 649_image_49949920_2201470736759092_7291156049560600576_o.jpg
CATEGORIES:wielkopolskie
LOCATION:Dragon Social Club\, ul.Zamkowa 3\, Poznan\, 61-768\, Poland
GEO:52.409327;16.932084
X-APPLE-STRUCTURED-LOCATION;VALUE=URI;X-ADDRESS=ul.Zamkowa 3\, Poznan\, 61-
 768\, Poland;X-APPLE-RADIUS=100;X-TITLE=Dragon Social Club:geo:52.409327,1
 6.932084
END:VEVENT
BEGIN:VTIMEZONE
TZID:Europe/Warsaw
X-LIC-LOCATION:Europe/Warsaw
BEGIN:STANDARD
DTSTART:20181028T020000
TZOFFSETFROM:+0200
TZOFFSETTO:+0100
TZNAME:CET
END:STANDARD
END:VTIMEZONE
END:VCALENDAR