BEGIN:VCALENDAR
VERSION:2.0
PRODID:-//wp-events-plugin.com//7.2.3.1//EN
TZID:Europe/Warsaw
X-WR-TIMEZONE:Europe/Warsaw
BEGIN:VEVENT
UID:9180@night4u.pl
DTSTART;TZID=Europe/Warsaw:20190314T200000
DTEND;TZID=Europe/Warsaw:20190315T040000
DTSTAMP:20190307T234527Z
URL:https://night4u.pl/wydarzenia/moustache-party-dzien-mezczyzn/
SUMMARY:Moustache Party - dzień mężczyzn
DESCRIPTION:Kochani\, już 14 marca Samorząd W7 ma zaszczyt zaprosić Was 
 na\nnajbardziej męskie wydarzenie tego roku!\nImprezę pod znakiem bujneg
 o wąsa\, gdzie uczcimy dzień mężczyzn.\nWszystko w Waszym ulubionym kl
 ubie Domówka.
ATTACH;FMTTYPE=image/jpeg:https://night4u.pl/wp-content/uploads/2019/03/24
 911_image_53712316_2195249467162709_7169373385753886720_n.jpg
CATEGORIES:dolnośląskie
LOCATION:Samorząd Studencki Wydziału Inżynierii Środowiska\, Wybrzeże 
 Wyspiańskiego 27\, Wroclaw\, 50-370\, Poland
GEO:51.108137;17.058825
X-APPLE-STRUCTURED-LOCATION;VALUE=URI;X-ADDRESS=Wybrzeże Wyspiańskiego 27
 \, Wroclaw\, 50-370\, Poland;X-APPLE-RADIUS=100;X-TITLE=Samorząd Studenck
 i Wydziału Inżynierii Środowiska:geo:51.108137,17.058825
END:VEVENT
BEGIN:VTIMEZONE
TZID:Europe/Warsaw
X-LIC-LOCATION:Europe/Warsaw
BEGIN:STANDARD
DTSTART:20181028T020000
TZOFFSETFROM:+0200
TZOFFSETTO:+0100
TZNAME:CET
END:STANDARD
END:VTIMEZONE
END:VCALENDAR