BEGIN:VCALENDAR
VERSION:2.0
PRODID:-//wp-events-plugin.com//7.2.3.1//EN
TZID:Europe/Warsaw
X-WR-TIMEZONE:Europe/Warsaw
BEGIN:VEVENT
UID:45056@night4u.pl
DTSTART;TZID=Europe/Warsaw:20200131T220000
DTEND;TZID=Europe/Warsaw:20200201T050000
DTSTAMP:20200131T184235Z
URL:https://night4u.pl/wydarzenia/move-your-body-funktion/
SUMMARY:Move your body | Funktion
DESCRIPTION:Sobota z zimnym drinkiem i dobrą muzyką? Brzmi jak plan!\nW t
 ym dniu o najlepszą atmosferę do tanecznych wygibasów zadba dj Funktion
  co oznacza\, że wieczór można bez krępacji spędzić na tańcach i hu
 lańcach w Pokoju nr 13! \n\nStart 22:13\nWejście 20 PLN.\nSelekcja.\n\nP
 atronat Medialny:\nRadio ESKA\n\nREZERWACJE \n+48 732 538 638\ninfo@room13
 .pl\n______________________\n\nwww.room13.pl\nfb.com/room13club\ninstagram
 .com/room13club
ATTACH;FMTTYPE=image/jpeg:https://night4u.pl/wp-content/uploads/2020/01/14
 6213_image_83415055_3019468294743541_5818338444375490560_n.jpg
CATEGORIES:mazowieckie
LOCATION:ROOM 13 Club\, ul. Mazowiecka 13\, Warsaw\, 00-052\, Poland
GEO:52.237999;21.012896
X-APPLE-STRUCTURED-LOCATION;VALUE=URI;X-ADDRESS=ul. Mazowiecka 13\, Warsaw\
 , 00-052\, Poland;X-APPLE-RADIUS=100;X-TITLE=ROOM 13 Club:geo:52.237999,21
 .012896
END:VEVENT
BEGIN:VTIMEZONE
TZID:Europe/Warsaw
X-LIC-LOCATION:Europe/Warsaw
BEGIN:STANDARD
DTSTART:20191027T020000
TZOFFSETFROM:+0200
TZOFFSETTO:+0100
TZNAME:CET
END:STANDARD
END:VTIMEZONE
END:VCALENDAR