BEGIN:VCALENDAR
VERSION:2.0
PRODID:-//wp-events-plugin.com//7.2.3.1//EN
TZID:Europe/Warsaw
X-WR-TIMEZONE:Europe/Warsaw
BEGIN:VEVENT
UID:26905@night4u.pl
DTSTART;TZID=Europe/Warsaw:20190914T200000
DTEND;TZID=Europe/Warsaw:20190915T050000
DTSTAMP:20190907T180227Z
URL:https://night4u.pl/wydarzenia/move-your-body-sobota-14-09-club-80/
SUMMARY:MOVE YOUR BODY // Sobota 14.09 - Club 80
DESCRIPTION:MOVE YOUR BODY // Sobota 14.09 - Club 80\n\nJak sobota to oczyw
 iście mega impreza w Club 80! Specjalnie dla Was zagramy najlepsze tanecz
 ne kawałki. ? \nWspaniały klimat\, niezapomniana muzyka sprawią\, że b
 ędziecie się bawić do białego rana! ???\n\n?Pamiętajcie o czekającyc
 h na Was promocjach na barach. Szukajcie na mieście naszych hostess.\n\nW
 idzimy się na parkiecie! ?\n--\nImprezę nakręca: DJ MARCO\n--\nℹ INFO
 \n\n➡ START: ? 20.00 | DOOR SELECTION\n\n➡ REZERWACJE\n? 601 932 923\n
 \n➡ REGULAMIN KLUBU\nhttps://bit.ly/2AqoA65\n\n➡ POROZMAWIAJ ONLINE \n
 m.me/Club80.Gliwice\n\n➡ WSTĘP\nPANIE - 10zł\nPANOWIE - 15zł\n--\nwww
 .club80.pl\nwww.fb.com/Club80.Gliwice
ATTACH;FMTTYPE=image/jpeg:https://night4u.pl/wp-content/uploads/2019/09/62
 725_image_69638122_2183750585066590_6685866922715643904_o.jpg
CATEGORIES:śląskie
LOCATION:Club 80 Gliwice\, Dubois 22\, Gliwice\, 44-100\, Poland
GEO:50.300203;18.672661
X-APPLE-STRUCTURED-LOCATION;VALUE=URI;X-ADDRESS=Dubois 22\, Gliwice\, 44-10
 0\, Poland;X-APPLE-RADIUS=100;X-TITLE=Club 80 Gliwice:geo:50.300203,18.672
 661
END:VEVENT
BEGIN:VTIMEZONE
TZID:Europe/Warsaw
X-LIC-LOCATION:Europe/Warsaw
BEGIN:DAYLIGHT
DTSTART:20190331T030000
TZOFFSETFROM:+0100
TZOFFSETTO:+0200
TZNAME:CEST
END:DAYLIGHT
END:VTIMEZONE
END:VCALENDAR