BEGIN:VCALENDAR
VERSION:2.0
PRODID:-//wp-events-plugin.com//7.2.3.1//EN
TZID:Europe/Warsaw
X-WR-TIMEZONE:Europe/Warsaw
BEGIN:VEVENT
UID:49224@night4u.pl
DTSTART;TZID=Europe/Warsaw:20200305T220000
DTEND;TZID=Europe/Warsaw:20200305T220000
DTSTAMP:20200305T052347Z
URL:https://night4u.pl/wydarzenia/movies-stars-party-esn-pk-klub-coco/
SUMMARY:Movies Stars PARTY ESN PK&amp\; klub COCO
DESCRIPTION:Orientation week after party!\nEntrence is free with your stude
 nt ID card!\nWait for the contests with amazing awards to win!\nLet's part
 y Hollywood style!\n[more details soon]
ATTACH;FMTTYPE=image/jpeg:https://night4u.pl/wp-content/uploads/2020/03/17
 0458_image_88059755_2726781890723305_4593702599517011968_o.jpg
CATEGORIES:małopolskie
LOCATION:Klub Coco Kraków\, Szpitalna 38\, Kraków\, 31-024\, Poland
GEO:50.06422;19.94218
X-APPLE-STRUCTURED-LOCATION;VALUE=URI;X-ADDRESS=Szpitalna 38\, Kraków\, 31
 -024\, Poland;X-APPLE-RADIUS=100;X-TITLE=Klub Coco Kraków:geo:50.06422,19
 .94218
END:VEVENT
BEGIN:VTIMEZONE
TZID:Europe/Warsaw
X-LIC-LOCATION:Europe/Warsaw
BEGIN:STANDARD
DTSTART:20191027T020000
TZOFFSETFROM:+0200
TZOFFSETTO:+0100
TZNAME:CET
END:STANDARD
END:VTIMEZONE
END:VCALENDAR