BEGIN:VCALENDAR
VERSION:2.0
PRODID:-//wp-events-plugin.com//7.2.3.1//EN
TZID:Europe/Warsaw
X-WR-TIMEZONE:Europe/Warsaw
BEGIN:VEVENT
UID:21635@night4u.pl
DTSTART;TZID=Europe/Warsaw:20190814T210000
DTEND;TZID=Europe/Warsaw:20190815T043000
DTSTAMP:20190705T152256Z
URL:https://night4u.pl/wydarzenia/mr-polska-%e2%98%86-live-on-stage/
SUMMARY:MR. POLSKA ☆ Live on Stage
DESCRIPTION:MR. POLSKA ☆ LIVE ON STAGE\nŚR 14.08.19 ☆ ENERGY 2000 PRZY
 TKOWICE\nW środę 14. sierpnia (dzień przed wolnym) zapraszamy do przytk
 owickiego Energy 2000\, na kolejną imprezę. Na energicznej scenie pojawi
  się jedyny i niepowtarzalny MR. POLSKA! Twórca hitów: "Jagodzianki"\, 
 "Sikam Szampan"\, "Same bloki". Oczywiście oprócz eksplozji dźwięków\
 , czeka na Was także moc innych atrakcji i niespodzianek: pokaz pirotechn
 iki scenicznej\, wyrzutnie ognia i co2\, multilaser-show oraz inwazja nasz
 ych firmowych gadżetów!\n\nZagrają: \nMain Stage: Thomas | Don Pablo & 
 Daniels\nSala Dance: DeSebastiano & MATT G\nSala VIP: Skrzypa\n\nBilet: 10
  PLN | Wiek: +16 lat | Start: 21:00\n\nPROMOCJA / URODZINY/KAWALERSKIE/PAN
 IEŃSKIE - AKTYWNE.\nZasady promocji znajdziesz w naszym FAQ.\n\nRezerwacj
 a loży: ON-LINE: Dla zarejestrowanych i po zalogowaniu na naszej stronie 
 www\, w zakładce: KLUB/REZERWACJE lub TELEFONICZNIE pod nr. 33 876 88 12 
 wew.23 od pon. do pt. w godz. 8-16. Sobota (15:00 – 19:00) pod nr.tel. 6
 09 539 580
ATTACH;FMTTYPE=image/jpeg:https://night4u.pl/wp-content/uploads/2019/07/51
 423_image_65776192_2424052410974524_1276658640526245888_o.jpg
CATEGORIES:małopolskie
LOCATION:Energy 2000 Przytkowice\, Przytkowice 532 a\, Przytkowice\, 34-141
 \, Poland
GEO:49.902767;19.693146
X-APPLE-STRUCTURED-LOCATION;VALUE=URI;X-ADDRESS=Przytkowice 532 a\, Przytko
 wice\, 34-141\, Poland;X-APPLE-RADIUS=100;X-TITLE=Energy 2000 Przytkowice:
 geo:49.902767,19.693146
END:VEVENT
BEGIN:VTIMEZONE
TZID:Europe/Warsaw
X-LIC-LOCATION:Europe/Warsaw
BEGIN:DAYLIGHT
DTSTART:20190331T030000
TZOFFSETFROM:+0100
TZOFFSETTO:+0200
TZNAME:CEST
END:DAYLIGHT
END:VTIMEZONE
END:VCALENDAR