BEGIN:VCALENDAR
VERSION:2.0
PRODID:-//wp-events-plugin.com//7.2.3.1//EN
TZID:Europe/Warsaw
X-WR-TIMEZONE:Europe/Warsaw
BEGIN:VEVENT
UID:41699@night4u.pl
DTSTART;TZID=Europe/Warsaw:20200111T220000
DTEND;TZID=Europe/Warsaw:20200112T050000
DTSTAMP:20200111T192902Z
URL:https://night4u.pl/wydarzenia/mr-polska-w-rokoko-20-sobota-11-stycznia
 /
SUMMARY:Mr Polska w Rokoko 20 / Sobota / 11 stycznia
DESCRIPTION:W nowym rok wchodzimy mocnym uderzeniem 💪\nJuż 11 stycznia 
 w Rokoko 2.0 wystąpi Mr. Polska💥\n\nJego największe hity to:\n👉 Pi
 stolet\nhttps://www.youtube.com/watch?v=ZLieEQrIlxQ\n\n👉 Jagodzianki\nh
 ttps://www.youtube.com/watch?v=JcV-q-Mv06U\n\n👉 Sikam Szampan\nhttps://
 www.youtube.com/watch?v=4UigxQpX4J0\n___________
ATTACH;FMTTYPE=image/jpeg:https://night4u.pl/wp-content/uploads/2020/01/13
 0824_image_80871808_2527232310887082_5174218372178509824_o.jpg
CATEGORIES:podlaskie
LOCATION:Rokoko 2.0 Białystok\, Legionowa 14/16\, Białystok\, 15-099\, Po
 land
GEO:53.13039;23.15857
X-APPLE-STRUCTURED-LOCATION;VALUE=URI;X-ADDRESS=Legionowa 14/16\, Białysto
 k\, 15-099\, Poland;X-APPLE-RADIUS=100;X-TITLE=Rokoko 2.0 Białystok:geo:5
 3.13039,23.15857
END:VEVENT
BEGIN:VTIMEZONE
TZID:Europe/Warsaw
X-LIC-LOCATION:Europe/Warsaw
BEGIN:STANDARD
DTSTART:20191027T020000
TZOFFSETFROM:+0200
TZOFFSETTO:+0100
TZNAME:CET
END:STANDARD
END:VTIMEZONE
END:VCALENDAR