BEGIN:VCALENDAR
VERSION:2.0
PRODID:-//wp-events-plugin.com//7.2.3.1//EN
TZID:Europe/Warsaw
X-WR-TIMEZONE:Europe/Warsaw
BEGIN:VEVENT
UID:32634@night4u.pl
DTSTART;TZID=Europe/Warsaw:20191110T210000
DTEND;TZID=Europe/Warsaw:20191111T040000
DTSTAMP:20200401T081152Z
URL:https://night4u.pl/wydarzenia/mr-polska-we-wroclawiu-afterparty-cherry
 -club-10-11/
SUMMARY:Mr. Polska we Wrocławiu + afterparty // Cherry Club 10.11
DESCRIPTION:10 listopada\, po raz pierwszy we Wrocławiu\, wystąpi Mr. Pol
 ska! Artysta zaprezentuje swoje polskie i holenderskie hity\, a także pre
 mierowe utwory z nowego wydawnictwa\, którego ogłoszenie dopiero nastąp
 i. Po koncercie zapraszamy na afterparty.\n\nMr. Polska to twórca hitów 
 takich jak: \n💸 Jagodzianki - https://youtu.be/JcV-q-Mv06U\n🔫 Pistol
 et - https://youtu.be/ZLieEQrIlxQ\n🍾 Sikam Szampan - https://youtu.be/4
 UigxQpX4J0\n⭐ Gwiazda - https://youtu.be/kYHPxTIFHk0\n\nINFO:\nKoncert M
 r. Polska\n10.11.2019 (niedziela)\nCherry CLUB Wrocław (ul. Kuźnicza 10)
 \ndrzwi: 21:00\nkoncert główny: 23:00\n\nAFTERPARTY:\nPo koncercie zapra
 szamy na after\, który poprowadzi Paul Orlov. Wstęp do klubu dla osób b
 ez biletu na koncert dostępny po północy. Tax: 15zł.\n\n\nBILETY:\nWej
 ściówki do nabycia za pośrednictwem serwisu Going.\, a także stacjonar
 nie\, w salonach sieci empik w całej Polsce. Po koncercie możliwość ws
 tępu na afterparty.\n\nLINK:\nhttps://goingapp.pl/evt/2167039/mr-polska-w
 e-wroclawiu\n\nI PULA - 35zł\nII PULA - 40zł\nIII PULA - 45zł\n\nInform
 ujemy\, iż ilość biletów jest ograniczona i przestrzegamy przed ich za
 kupem z nieautoryzowanych źródeł.\n\nSUPPORT:\nGENG$Z ENT.\n[ B. River 
 / Sandii / Tomolly. the realest slime / Lil Fendi God ]\n\n_\nKoncert bez 
 ograniczeń wiekowych. Uczestnictwo osób poniżej 16tego roku życia moż
 liwe pod opieką rodzica/osoby dorosłej.\nOsoby niepełnoletnie\, po 16ty
 m roku życia muszą posiadać przy sobie pisemne oświadczenie rodzica ze
  zgodą na uczestnictwo w koncercie.
ATTACH;FMTTYPE=image/jpeg:https://night4u.pl/wp-content/uploads/2019/10/79
 669_image_72906281_416440579062416_11475585679228928_o.jpg
CATEGORIES:dolnośląskie
LOCATION:Cherry CLUB Wrocław\, Wroclaw\, Poland
GEO:51.110983;17.033849
X-APPLE-STRUCTURED-LOCATION;VALUE=URI;X-ADDRESS=Wroclaw\, Poland;X-APPLE-RA
 DIUS=100;X-TITLE=Cherry CLUB Wrocław:geo:51.110983,17.033849
END:VEVENT
BEGIN:VTIMEZONE
TZID:Europe/Warsaw
X-LIC-LOCATION:Europe/Warsaw
BEGIN:STANDARD
DTSTART:20191027T020000
TZOFFSETFROM:+0200
TZOFFSETTO:+0100
TZNAME:CET
END:STANDARD
END:VTIMEZONE
END:VCALENDAR