BEGIN:VCALENDAR
VERSION:2.0
PRODID:-//wp-events-plugin.com//7.2.3.1//EN
TZID:Europe/Warsaw
X-WR-TIMEZONE:Europe/Warsaw
BEGIN:VEVENT
UID:16166@night4u.pl
DTSTART;TZID=Europe/Warsaw:20191010T190000
DTEND;TZID=Europe/Warsaw:20191010T223000
DTSTAMP:20191011T065938Z
URL:https://night4u.pl/wydarzenia/mrozu-10-10-19-lublin-klub30/
SUMMARY:MROZU / 10.10.19 / Lublin\, Klub30
DESCRIPTION:UWAGA: Na koncerty w Klubie30 NIE OBOWIĄZUJE standardowa selek
 cja wiekowa. \nWstęp: 16+\, poniżej tego wieku - wstęp z opiekunem.\nUb
 iór? Zgodny z tematyką koncertu - to Ty masz czuć się dobrze!\n-------
 ---------------------------\nDATA: 10/10/2019 (czwartek)\nMIEJSCE: Klub30 
 Lublin\, ul. Jasna 7.\nINFOLINIA: 508-646-536 (śr-czw\, 09:00-15:00)\n---
 -------------------------------\n\nMROZU powraca z piątym albumem pt. ‘
 AURA’\, kontynuując myśl\, dzięki której narodził się ‘ZEW’. W
 spólnie z agencją HeartBeats zapraszamy na trasę promującą to wydawni
 ctwo.\n\nBilety: https://goingapp.pl/evt/2118749/mrozu-121019-lublin-klub3
 0\n\nMrozu to producent muzyczny\, kompozytor\, który łączy blues\, sou
 l i rock’and’rolla. Jest zdobywcą wielu muzycznych nagród\, szturmem
  podbił listy przebojów\, a jego numery "Jak nie my to kto"\, czy „Nic
  do stracenia” zna cała Polska. Trzeci album pt. "Rollercoaster" uzyska
 ł status platynowej płyty. „ZEW”\, który był nominowany do Frydery
 kow w kategorii alternatywa\, pokrył się złotem i zyskał uznanie wśr
 ód fanów i krytyków muzycznych. Pod koniec lutego ukazał się singiel 
 NAPAD\, promujący najnowszy\, piąty album AURA. Rok 2019 jest dla artyst
 y wyjątkowy również przez wzgląd na okrągłą\, dziesiątą rocznicę
  działalności na scenie.
ATTACH;FMTTYPE=image/jpeg:https://night4u.pl/wp-content/uploads/2019/05/39
 611_image_60431079_10158441433901040_5839224088651890688_o.jpg
CATEGORIES:lubelskie
LOCATION:Klub30 Lublin\, Lublin\, Poland
GEO:51.249038;22.552872
X-APPLE-STRUCTURED-LOCATION;VALUE=URI;X-ADDRESS=Lublin\, Poland;X-APPLE-RAD
 IUS=100;X-TITLE=Klub30 Lublin:geo:51.249038,22.552872
END:VEVENT
BEGIN:VTIMEZONE
TZID:Europe/Warsaw
X-LIC-LOCATION:Europe/Warsaw
BEGIN:DAYLIGHT
DTSTART:20190331T030000
TZOFFSETFROM:+0100
TZOFFSETTO:+0200
TZNAME:CEST
END:DAYLIGHT
END:VTIMEZONE
END:VCALENDAR