BEGIN:VCALENDAR
VERSION:2.0
PRODID:-//wp-events-plugin.com//7.2.3.1//EN
TZID:Europe/Warsaw
X-WR-TIMEZONE:Europe/Warsaw
BEGIN:VEVENT
UID:17106@night4u.pl
DTSTART;TZID=Europe/Warsaw:20191013T190000
DTEND;TZID=Europe/Warsaw:20191013T223000
DTSTAMP:20191015T104335Z
URL:https://night4u.pl/wydarzenia/mrozu-13-10-19-krakow-forty-kleparz/
SUMMARY:MROZU / 13.10.19 / Kraków\, Forty Kleparz | Sold Out
DESCRIPTION:MROZU powraca do Krakowa z piątym albumem pt. ‘AURA’\, kon
 tynuując myśl\, dzięki której narodził się ‘ZEW’. Wspólnie z ag
 encją HeartBeats zapraszamy na trasę promującą to wydawnictwo.\n\nBile
 ty: WYPRZEDANE\, sprzedaż nie będzie już prowadzona.\n\nMrozu to produc
 ent muzyczny\, kompozytor\, który łączy blues\, soul i rock’and’rol
 la. Jest zdobywcą wielu muzycznych nagród\, szturmem podbił listy przeb
 ojów\, a jego numery "Jak nie my to kto"\, czy „Nic do stracenia” zna
  cała Polska. Trzeci album pt. "Rollercoaster" uzyskał status platynowej
  płyty. „ZEW”\, który był nominowany do Fryderykow w kategorii alte
 rnatywa\, pokrył się złotem i zyskał uznanie wśród fanów i krytykó
 w muzycznych. Pod koniec lutego ukazał się singiel NAPAD\, promujący na
 jnowszy\, piąty album AURA. Rok 2019 jest dla artysty wyjątkowy równie
 ż przez wzgląd na okrągłą\, dziesiątą rocznicę działalności na s
 cenie.
ATTACH;FMTTYPE=image/jpeg:https://night4u.pl/wp-content/uploads/2019/10/41
 792_image_70219286_10158850823671040_3001448984691605504_o.jpg
CATEGORIES:małopolskie
LOCATION:Klub Forty Kleparz\, ul. Kamienna 2  i 4\, Kraków\, 30-001\, Pola
 nd
GEO:50.07478;19.937665
X-APPLE-STRUCTURED-LOCATION;VALUE=URI;X-ADDRESS=ul. Kamienna 2  i 4\, Krak
 ów\, 30-001\, Poland;X-APPLE-RADIUS=100;X-TITLE=Klub Forty Kleparz:geo:50
 .07478,19.937665
END:VEVENT
BEGIN:VTIMEZONE
TZID:Europe/Warsaw
X-LIC-LOCATION:Europe/Warsaw
BEGIN:DAYLIGHT
DTSTART:20190331T030000
TZOFFSETFROM:+0100
TZOFFSETTO:+0200
TZNAME:CEST
END:DAYLIGHT
END:VTIMEZONE
END:VCALENDAR