BEGIN:VCALENDAR
VERSION:2.0
PRODID:-//wp-events-plugin.com//7.2.3.1//EN
TZID:Europe/Warsaw
X-WR-TIMEZONE:Europe/Warsaw
BEGIN:VEVENT
UID:25380@night4u.pl
DTSTART;TZID=Europe/Warsaw:20191017T190000
DTEND;TZID=Europe/Warsaw:20191017T223000
DTSTAMP:20191017T104928Z
URL:https://night4u.pl/wydarzenia/mrozu-17-10-19-lodz-scenografia/
SUMMARY:MROZU / 17.10.19 / Łódź\, Scenografia | Sold Out
DESCRIPTION:19:00 - Otwarcie drzwi\n20:00 - MROZU\n\nZe względu na duże z
 ainteresowanie koncertem\, polecamy przyjść wcześniej.\n_______________
 _______________________________________________\nMrozu powraca do Łodzi z
  piątym albumem pt. ‘AURA’\, kontynuując myśl\, dzięki której nar
 odził się ‘ZEW’. Wspólnie z agencją HeartBeats zapraszamy na tras
 ę promującą to wydawnictwo.\n\nBilety: WYPRZEDANE\, sprzedaż nie będz
 ie już prowadzona\n\nMrozu to producent muzyczny\, kompozytor\, który ł
 ączy blues\, soul i rock’and’rolla. Jest zdobywcą wielu muzycznych n
 agród\, szturmem podbił listy przebojów\, a jego numery "Jak nie my to 
 kto"\, czy „Nic do stracenia” zna cała Polska. Trzeci album pt. "Roll
 ercoaster" uzyskał status platynowej płyty. „ZEW”\, który był nomi
 nowany do Fryderykow w kategorii alternatywa\, pokrył się złotem i zysk
 ał uznanie wśród fanów i krytyków muzycznych. Pod koniec lutego ukaza
 ł się singiel NAPAD\, promujący najnowszy\, piąty album AURA. Rok 2019
  jest dla artysty wyjątkowy również przez wzgląd na okrągłą\, dzies
 iątą rocznicę działalności na scenie.
ATTACH;FMTTYPE=image/jpeg:https://night4u.pl/wp-content/uploads/2019/10/59
 537_image_72173709_10158922504841040_5019644118398140416_o.jpg
CATEGORIES:łódzkie
LOCATION:Scenografia\, Zachodnia 81/83\, Łódź\, 90-402\, Poland
GEO:51.774869;19.451955
X-APPLE-STRUCTURED-LOCATION;VALUE=URI;X-ADDRESS=Zachodnia 81/83\, Łódź\,
  90-402\, Poland;X-APPLE-RADIUS=100;X-TITLE=Scenografia:geo:51.774869,19.4
 51955
END:VEVENT
BEGIN:VTIMEZONE
TZID:Europe/Warsaw
X-LIC-LOCATION:Europe/Warsaw
BEGIN:DAYLIGHT
DTSTART:20190331T030000
TZOFFSETFROM:+0100
TZOFFSETTO:+0200
TZNAME:CEST
END:DAYLIGHT
END:VTIMEZONE
END:VCALENDAR