BEGIN:VCALENDAR
VERSION:2.0
PRODID:-//wp-events-plugin.com//7.2.3.1//EN
TZID:Europe/Warsaw
X-WR-TIMEZONE:Europe/Warsaw
BEGIN:VEVENT
UID:51103@night4u.pl
DTSTART;TZID=Europe/Warsaw:20211017T200000
DTEND;TZID=Europe/Warsaw:20211017T220000
DTSTAMP:20210908T144713Z
URL:https://night4u.pl/wydarzenia/muniek-i-przyjaciele-17-10-2021-torun/
SUMMARY:Muniek i Przyjaciele | 17.10.2021 | TORUŃ
DESCRIPTION:🗣️ Zapraszamy na koncert MUNIEK I PRZYJACIELE już 17 paź
 dziernika (niedziela) 2021 w klubie Lizard King Toruń! Muniek i Przyjacie
 le to akustyczna odsłona koncertów w wykonaniu Zygmunta "Muńka" Staszcz
 yka\, lidera formacji T. Love. W koncertach towarzyszą Muńkowi: Cezarius
 z Kosman - gitara akustyczna oraz Janek "Jahlove" Pęczak - gitara akustyc
 zna. Wszelkie szczegóły dotyczące koncertu\, punkty sprzedaży biletów
  znajdziecie poniżej lub pod numerem telefonu 668-963-904.\n_____________
 __________________\n🎫 BILETY / I PULA / - wyprzedane\n🎫 BILETY / II 
 PULA / - wyprzedane\n🎫 BILETY / III PULA / 100 zł - dostępne online o
 raz stacjonarnie:\n\n▪Biletyna.pl: https://bit.ly/36wZylz\n▪KupBilecik
 .pl: https://bit.ly/3kcdlpH\n▪eBilet.pl: https://bit.ly/3BeLGda\n▪Biur
 o Copernicana\, ul. Żeglarska 10/14\n▪Księgarnia PWN\, ul. Reja 25\n
 ▪Inf. Turystyczna\, ul. Rynek Staromiejski\n____________________________
 ___\n📋 Rezerwacja stolików (bezpłatne):\n▪ e-mail: lizardkingtorun@
 gmail.com\n☎ Bilety grupowe / rezerwacje:\n▪ pod numerem telefonu: 668
 -963-904\n_______________________________\nZapraszamy na koncert MUNIEK I 
 PRZYJACIELE już 17 października (niedziela) 2021 w klubie Lizard King To
 ruń! \n\nMuniek i Przyjaciele to akustyczna odsłona koncertów w wykonan
 iu Zygmunta "Muńka" Staszczyka\, lidera formacji T. Love. W koncertach to
 warzyszą Muńkowi: Cezariusz Kosman - gitara akustyczna oraz Janek "Jahlo
 ve" Pęczak - gitara akustyczna. \n\nMuniek i Przyjaciele wyruszyli w tras
 ę jesienią roku 2018. Początkowo\, projekt ten miał być tylko chwilow
 ą odskocznią od głośnego\, rockowego grania. Muniek chciał pograć z 
 mniejszym aparatem wykonawczym\, w nieco mniejszych\, kameralnych salach. 
 Ogromny sukces tego początkowo skromnego przedsięwzięcia spowodował je
 dnak\, że 05 marca 2021 odbyła się premiera płyta live. Jest to album 
 dokumentujący ponad 60 koncertów\, podczas których zespół objechał c
 ałą Polskę występując zarówno w małych klubowych salach\, w teatrac
 h\, na Stadionie Narodowym oraz na scenach krajowych letnich festiwali. Pr
 ogram koncertów jest wypadkową różnych projektów artystycznych Muńka
 \, zarówno z repertuaru zespołu T.Love\, jak i działań solowych wokali
 sty\, zawiera też przeboje z najnowszej solowej płyty Artysty "Syn miast
 a".
ATTACH;FMTTYPE=image/jpeg:https://night4u.pl/wp-content/uploads/2021/08/18
 6415_image_217180025_10158613300786731_8145730929777610693_n.jpg
CATEGORIES:kujawsko-pomorskie
LOCATION:Lizard King Toruń\, Kopernika 3\, Torun\, 87-100\, Poland
GEO:53.00939;18.60504
X-APPLE-STRUCTURED-LOCATION;VALUE=URI;X-ADDRESS=Kopernika 3\, Torun\, 87-10
 0\, Poland;X-APPLE-RADIUS=100;X-TITLE=Lizard King Toruń:geo:53.00939,18.6
 0504
END:VEVENT
BEGIN:VTIMEZONE
TZID:Europe/Warsaw
X-LIC-LOCATION:Europe/Warsaw
BEGIN:DAYLIGHT
DTSTART:20210328T030000
TZOFFSETFROM:+0100
TZOFFSETTO:+0200
TZNAME:CEST
END:DAYLIGHT
END:VTIMEZONE
END:VCALENDAR