BEGIN:VCALENDAR
VERSION:2.0
PRODID:-//wp-events-plugin.com//7.2.3.1//EN
TZID:Europe/Warsaw
X-WR-TIMEZONE:Europe/Warsaw
BEGIN:VEVENT
UID:23426@night4u.pl
DTSTART;TZID=Europe/Warsaw:20190803T200000
DTEND;TZID=Europe/Warsaw:20190804T050000
DTSTAMP:20190731T113126Z
URL:https://night4u.pl/wydarzenia/music-around-the-world-%e2%9c%aa-sob-3-0
 8-club-80-2/
SUMMARY:Music Around the World ✪ Sob. 3.08 - Club 80
DESCRIPTION:MUSIC AROUND THE WORLD ✪ Sob. 3.08 - Club 80\n\nJak co tydzie
 ń w sobotę zapraszamy na mega imprezę. Usłyszycie największe hity św
 iatowej muzyki. Jak zwykle będą czekajać na Was wyjątkowe promocje na 
 barach. Szukajcie na mieście naszych hostess.\n--\nDolny poziom - DJ CICH
 Y\nGórny poziom - DJ MALEC\n--\nℹ INFO\n\n➡ START: ? 20.00 | DOOR SEL
 ECTION\n\n➡ REZERWACJE\n? 517 517 519\n\n➡ REGULAMIN KLUBU\nhttps://bi
 t.ly/2AqoA65\n\n➡ POROZMAWIAJ ONLINE \nm.me/Club80Premium\n\n➡ WSTĘP\
 nPANIE - 15zł\nPANOWIE - 20zł\n--\nwww.club80.pl\nwww.fb.com/Club80Premi
 um
ATTACH;FMTTYPE=image/jpeg:https://night4u.pl/wp-content/uploads/2019/07/55
 387_image_67491250_2985852788153490_7428381083596488704_o.jpg
CATEGORIES:śląskie
LOCATION:Club 80 Siemianowice Śląskie\, Olimpijska 15\, Siemianowice Slas
 kie\, 41-100\, Poland
GEO:50.304733;19.017948
X-APPLE-STRUCTURED-LOCATION;VALUE=URI;X-ADDRESS=Olimpijska 15\, Siemianowic
 e Slaskie\, 41-100\, Poland;X-APPLE-RADIUS=100;X-TITLE=Club 80 Siemianowic
 e Śląskie:geo:50.304733,19.017948
END:VEVENT
BEGIN:VTIMEZONE
TZID:Europe/Warsaw
X-LIC-LOCATION:Europe/Warsaw
BEGIN:DAYLIGHT
DTSTART:20190331T030000
TZOFFSETFROM:+0100
TZOFFSETTO:+0200
TZNAME:CEST
END:DAYLIGHT
END:VTIMEZONE
END:VCALENDAR