BEGIN:VCALENDAR
VERSION:2.0
PRODID:-//wp-events-plugin.com//7.2.3.1//EN
TZID:Europe/Warsaw
X-WR-TIMEZONE:Europe/Warsaw
BEGIN:VEVENT
UID:45543@night4u.pl
DTSTART;TZID=Europe/Warsaw:20200131T200000
DTEND;TZID=Europe/Warsaw:20200131T200000
DTSTAMP:20200131T191744Z
URL:https://night4u.pl/wydarzenia/music-box-31-01-20-piatek/
SUMMARY:Music BOX 31/01/20 Piątek
DESCRIPTION:Zapraszamy wszystkich na znany już  cykl imprez pod nazwą MUS
 IC BOX Party \, jak już sama nazwa sugeruje usłyszycie na nich najwięks
 ze przeboje z każdego gatunku muzycznego począwszy od rock'n'rolla a sko
 ńczywszy na disco-polo !!! Tym razem imprezę  nakręcać będzie DJ B-MA
 TT. 🎧\n\nPiątek to weekendu początek- dzień dobrych i niezapomnianyc
 h wrażeń\, oraz spotkania ludzi z wielką energią do życia! 🥳🤪\n
 My również mamy wielki apetyt na dobrze spędzony czas\, w obecności ś
 wietnych ludzi i najlepszej muzyki. Aby początek weekendu był bardziej z
 nośny szukaj obowiązujących promocji w naszym lokalu 🥃💃🏻
ATTACH;FMTTYPE=image/jpeg:https://night4u.pl/wp-content/uploads/2020/01/14
 7810_image_83784612_2974827745861361_4582893292114411520_o.jpg
CATEGORIES:podkarpackie
LOCATION:Bowling Club JAPA\, ul. Batorego 55\, Przemysl\, 37-700\, Poland
GEO:49.776434;22.801928
X-APPLE-STRUCTURED-LOCATION;VALUE=URI;X-ADDRESS=ul. Batorego 55\, Przemysl\
 , 37-700\, Poland;X-APPLE-RADIUS=100;X-TITLE=Bowling Club JAPA:geo:49.7764
 34,22.801928
END:VEVENT
BEGIN:VTIMEZONE
TZID:Europe/Warsaw
X-LIC-LOCATION:Europe/Warsaw
BEGIN:STANDARD
DTSTART:20191027T020000
TZOFFSETFROM:+0200
TZOFFSETTO:+0100
TZNAME:CET
END:STANDARD
END:VTIMEZONE
END:VCALENDAR