BEGIN:VCALENDAR
VERSION:2.0
PRODID:-//wp-events-plugin.com//7.2.3.1//EN
TZID:Europe/Warsaw
X-WR-TIMEZONE:Europe/Warsaw
BEGIN:VEVENT
UID:49647@night4u.pl
DTSTART;TZID=Europe/Warsaw:20200314T220000
DTEND;TZID=Europe/Warsaw:20200315T040000
DTSTAMP:20200310T184137Z
URL:https://night4u.pl/wydarzenia/music-connection-by-ketel-one-ponydiscos
 fistaq-14-03-2020/
SUMMARY:Music Connection by Ketel One/ Ponydisco&amp\;Sfistaq/14.03.2020
DESCRIPTION:#MusicConnection czyli ogromna dawka różnej muzyki\, przekaza
 na poprzez postacie dwóch wspaniałych i znanych na Śląsku dj-i : #Pony
 disco oraz #Sfistaq  ❗ \nDwa style muzyczne\, dwa oblicza muzyki black o
 raz house. Tego dawno u nas nie było :) Bo to właśnie dobra muzyka jest
  tym czego oczekujecie od nas\, od #MardiGras \;)\nNie obiecujemy\, że b
 ędzie biba stulecia ale obiecujemy\, że będziecie się bawić najlepiej
  na świecie :p\n\nPonydisco\nFascynat i propagator dobrego House Music od
  2010 roku. Jego live sety to przekrój muzyki house od lat 90 po obecne h
 ity\, które sam starannie selekcjonuje. Styl #Ponydisco to mieszanka ener
 gii na parkiecie\, charyzmy za konsoletą i pozytywnej wibracji.\n\nDJ Sfi
 staq\nGwiazda sceny mash-up w Polsce. Należy do prężnie działającej g
 rupy dji - HZN CREW. Jego sety powodują gęsią skórkę u najbardziej wy
 magających klubowiczów i klubowiczek. Ma bardzo wiele zainteresowań\, j
 ednak to muzyka w jego życiu jest jego największą przygodą i pasją. \
 n\n-----------------------------------------------------------------------
 ------\nTAX:\nPANIE do 23.30 ➡ 10 zł\nPANIE po 23.30 ➡ 15 zł\n\nPANO
 WIE do 23.30 ➡ 20 zł\nPANOWIE po 23.30 ➡ 25 zł\n*wstęp od 21 lat\n\
 nKARTY KLUBOWE/IMIENNE WSTĘP FREE\n____________________________\nMardi Gr
 as\nul. Studzienna 8\n44-100 Gliwice\nRezerwacje: 662 844 850
ATTACH;FMTTYPE=image/jpeg:https://night4u.pl/wp-content/uploads/2020/03/17
 3135_image_89612156_2765594830202310_5900035890645827584_o.jpg
CATEGORIES:śląskie
LOCATION:Mardi Gras\, Studzienna 8\, Gliwice\, 44-100\, Poland
GEO:50.296127;18.667885
X-APPLE-STRUCTURED-LOCATION;VALUE=URI;X-ADDRESS=Studzienna 8\, Gliwice\, 44
 -100\, Poland;X-APPLE-RADIUS=100;X-TITLE=Mardi Gras:geo:50.296127,18.66788
 5
END:VEVENT
BEGIN:VTIMEZONE
TZID:Europe/Warsaw
X-LIC-LOCATION:Europe/Warsaw
BEGIN:STANDARD
DTSTART:20191027T020000
TZOFFSETFROM:+0200
TZOFFSETTO:+0100
TZNAME:CET
END:STANDARD
END:VTIMEZONE
END:VCALENDAR