BEGIN:VCALENDAR
VERSION:2.0
PRODID:-//wp-events-plugin.com//7.2.3.1//EN
TZID:Europe/Warsaw
X-WR-TIMEZONE:Europe/Warsaw
BEGIN:VEVENT
UID:50984@night4u.pl
DTSTART;TZID=Europe/Warsaw:20210924T200000
DTEND;TZID=Europe/Warsaw:20210924T220000
DTSTAMP:20210908T144819Z
URL:https://night4u.pl/wydarzenia/musical-metro-opole-koncert-jubileuszowy
 -30-lecia/
SUMMARY:Musical METRO Opole - Koncert Jubileuszowy 30-lecia
DESCRIPTION:Zapraszamy do Opola na inauguracyjny koncert Trasy Jubileuszowe
 j 30-lecia kultowego Musicalu METRO !\n\nUWAGA!!! Ze względu na pandemię
  i zakaz organizacji imprez musical METRO w Opolu jest przełożony z term
 inu w roku 2020!\n\nBILETY ZAKUPIONE DO TEJ PORY ZACHOWUJĄ WAŻNOŚĆ !\n
 \nMusical Metro jest jak wehikuł czasu. Dorosły widz przeniesie myśli d
 o czasów swojej młodości\, kiedy stawał przed życiowymi decyzjami\, k
 iedy spełnienie marzeń było na wyciągnięcie ręki. \nMłody zaś\, u
 świadomi sobie\, że „niemożliwe nie istnieje”. Istnieją natomiast 
 dylematy\, którą drogę wybrać\, czy tę łatwiejszą: dać się przeku
 pić i zaistnieć czy ciężko zapracować na swój życiowy sukces. \n\nZ
 awsze aktualna i uniwersalna tematyka sprawia\, że Musicalem interesuje s
 ię każde pokolenie. Ta niezwykle ekscytująca historia zawsze chwyta za 
 serce a piękne ballady Janusza Stokłosy niejednemu wycisną łzy z oczu.
 \n\nKoncerty Jubileuszowe będą jednocześnie okazją do spotkania się z
  kilkoma Artystami z pierwszych obsad musicalu.\n\nBilety do nabycia m.in:
  kasa Amfiteatru Tysiąclecia\, kupbilecik.pl\, ebilet.pl
ATTACH;FMTTYPE=image/jpeg:https://night4u.pl/wp-content/uploads/2021/08/18
 6163_image_175969815_2980824938830017_2842618173615159618_n.jpg
CATEGORIES:opolskie
END:VEVENT
BEGIN:VTIMEZONE
TZID:Europe/Warsaw
X-LIC-LOCATION:Europe/Warsaw
BEGIN:DAYLIGHT
DTSTART:20210328T030000
TZOFFSETFROM:+0100
TZOFFSETTO:+0200
TZNAME:CEST
END:DAYLIGHT
END:VTIMEZONE
END:VCALENDAR