BEGIN:VCALENDAR
VERSION:2.0
PRODID:-//wp-events-plugin.com//7.2.3.1//EN
TZID:Europe/Warsaw
X-WR-TIMEZONE:Europe/Warsaw
BEGIN:VEVENT
UID:24259@night4u.pl
DTSTART;TZID=Europe/Warsaw:20191119T200000
DTEND;TZID=Europe/Warsaw:20191119T230000
DTSTAMP:20191118T154638Z
URL:https://night4u.pl/wydarzenia/mustasch-killing-it-for-life-tour-motorj
 esus-dynamite-krakow/
SUMMARY:Mustasch • Motorjesus • Dynamite | Krakow\, Klub Zaścianek
DESCRIPTION:Mustasch “Killing It For Life Tour 2019”.\nGoście specjaln
 i: Motorjesus i Dynamite.\n\n19.11.2019\nKlub Zaścianek\nKraków\, ul. Ro
 stafińskiego 4\n19:00 - thedoors\n20:00 - start\n\nBilety:\n80 zł - prze
 dsprzedaż\;\n100 zł - w dniu koncertu.\n\nDostępne online na:\nhttps://
 ticketclub.pl/miejsca/klub-zascianek-krakow-40/\nhttps://www.ebilet.pl/mie
 jsce/klub-zascianek/\nhttps://goingapp.pl/place/1782/1/klub-zascianek\n\n\
 nDzicy. Czarujący. Wstrętni. Genialni.\nZespół Mustasch można opisać
  na wiele sposobów. Z ich bezpośredniością i bezkompromisowością pro
 wokują\, ale ich muzyka jest uwielbiana przez setki tysięcy fanów na ca
 łym świecie. I niezależnie od tego co ludzie mówią\, Mustasch urósł
  do miana jednego z największych Szwedzkich hard-rockowych zespołów. \n
 \nMają na swoim koncie 10 pełnowymiarowych albumów studyjnych\, 2 nagro
 dy Grammy oraz koncerty u boku takich legend jak KISS. \n\nPo wielu zmiana
 ch w składzie zespołu\, Mustasch powraca jeszcze silniejszy\, jeszcze ba
 rdziej bezkompromisowy niż kiedykolwiek. Po wieloletniej współpracy z S
 ony Music\, zespół postanowił założyć własną wytwórnię Tritonus 
 Records i pod jej szyldem wydać swój najnowszy krążek\, który swoją 
 premierę będzie miał jeszcze w tym roku. Na nadchodzącej trasie koncer
 towej “Killing It For Life Tour 2019” usłyszymy najbardziej znane utw
 ory zespołu oraz premierowe kompozycje. \n\n“What is Wrong” I “Bloo
 d In Blood Out”\, dwa single promujące najnowszy album\, zbierają same
  pozytywne recenzje zarówno wśród fanów zespołu jak i wśród mediów
 . \n\nMustasch to zespół\, który bezwątpienia trzeba zobaczyć na żyw
 o. Przynajmniej raz. Choć po zobaczeniu ich po raz pierwszy\, nie znalaz
 ł się nikt\, kto nie czekałby na kolejny koncert. Niewiele zespołów d
 aje tak energetyczne koncerty jak Szwedzi. \n\nNa trasie\, poza Mustasch z
 obaczymy fenomenalne Motorjesus i Dynamite.\n\nMustasch będzie pierwszym 
 zespołem\, który wystąpi na księżycu.  - Stam\n\nJesteśmy demokratyc
 znym zespołem\, pod rządami dyktatora. - Ralf\n\nRalf zjadł mój kapelu
 sz. Zwariował. - szalony fan\n\nMustasch to alkohol\, hamburgery i pickup
 y. - Ralf\n\nGdyby w zespole był ktoś taki sam jak ja\, ten zespół nig
 dy by nie istniał.  - Ralf\n\nMUSTASCH:\nhttp://www.mustasch.net/band/\nh
 ttps://www.facebook.com/Mustaschofficial/\nhttps://www.youtube.com/channel
 /UCVBG8FN7fDN89cOgClKi80g\n\nMOTORJESUS:\nhttp://www.motorjesus.net/\nhttp
 s://www.facebook.com/motorjesus/\nhttps://www.youtube.com/resultssearch_qu
 ery=motorjesus&amp\;aq=0\n\nDYNAMITE:\nhttps://dynamitesweden.com/\nhttps:
 //www.facebook.com/dynamitesweden\nhttps://www.youtube.com/user/dynamitesw
 eden
ATTACH;FMTTYPE=image/jpeg:https://night4u.pl/wp-content/uploads/2019/08/57
 152_image_67550266_2899929023367200_5263183379855048704_o.jpg
CATEGORIES:małopolskie
LOCATION:Klub Zaścianek\, ul. Rostafińskiego 4\, Kraków\, 30-072\, Polan
 d
GEO:50.068039;19.905487
X-APPLE-STRUCTURED-LOCATION;VALUE=URI;X-ADDRESS=ul. Rostafińskiego 4\, Kra
 ków\, 30-072\, Poland;X-APPLE-RADIUS=100;X-TITLE=Klub Zaścianek:geo:50.0
 68039,19.905487
END:VEVENT
BEGIN:VTIMEZONE
TZID:Europe/Warsaw
X-LIC-LOCATION:Europe/Warsaw
BEGIN:STANDARD
DTSTART:20191027T020000
TZOFFSETFROM:+0200
TZOFFSETTO:+0100
TZNAME:CET
END:STANDARD
END:VTIMEZONE
END:VCALENDAR