BEGIN:VCALENDAR
VERSION:2.0
PRODID:-//wp-events-plugin.com//7.2.3.1//EN
TZID:Europe/Warsaw
X-WR-TIMEZONE:Europe/Warsaw
BEGIN:VEVENT
UID:42856@night4u.pl
DTSTART;TZID=Europe/Warsaw:20200119T210000
DTEND;TZID=Europe/Warsaw:20200120T040000
DTSTAMP:20200119T230401Z
URL:https://night4u.pl/wydarzenia/muzyczna-niedziela-discoplex-a4-2/
SUMMARY:Muzyczna Niedziela | Discoplex A4
DESCRIPTION:Na żywo na sali Dance wystąpią zespoły VOICE oraz BIS \nGra
 my także na sali JAMAICA \nOsoby po 50tce wstęp FREE!
ATTACH;FMTTYPE=image/jpeg:https://night4u.pl/wp-content/uploads/2020/01/13
 6531_image_83045984_3309646735714029_8234556684257722368_n.jpg
CATEGORIES:opolskie
LOCATION:Discoplex A4\, Pietna\, Poland
GEO:50.451164;17.967762
X-APPLE-STRUCTURED-LOCATION;VALUE=URI;X-ADDRESS=Pietna\, Poland;X-APPLE-RAD
 IUS=100;X-TITLE=Discoplex A4:geo:50.451164,17.967762
END:VEVENT
BEGIN:VTIMEZONE
TZID:Europe/Warsaw
X-LIC-LOCATION:Europe/Warsaw
BEGIN:STANDARD
DTSTART:20191027T020000
TZOFFSETFROM:+0200
TZOFFSETTO:+0100
TZNAME:CET
END:STANDARD
END:VTIMEZONE
END:VCALENDAR