BEGIN:VCALENDAR
VERSION:2.0
PRODID:-//wp-events-plugin.com//7.2.3.1//EN
TZID:Europe/Warsaw
X-WR-TIMEZONE:Europe/Warsaw
BEGIN:VEVENT
UID:41990@night4u.pl
DTSTART;TZID=Europe/Warsaw:20200110T223000
DTEND;TZID=Europe/Warsaw:20200111T050000
DTSTAMP:20200109T170745Z
URL:https://night4u.pl/wydarzenia/muzyka-dla-doroslych-lista-fb/
SUMMARY:Muzyka dla dorosłych | lista FB*
DESCRIPTION:Gitary i syntezatory zamiast Disney Channel\, melancholia wymie
 szania z ekstazą\, młodość dla dorosłych. Tak jak kiedyś\, tylko że
  teraz. Ponadczasowe kawałki\, bez dyskotekowych wtrąceń i lukrowanych 
 coverów. Po prostu\, muzyka dla dorosłych.\n\nGrają:\nI Say Mikey (AM R
 adio)\nKATZ + Krucza\nWAE \n\nTAX: 20 PLN\nLista FB do 23:30\n\nRezerwacje
  stolików i miejsc siedzących przyjmujemy pod mailem: rezerwacje@klubnie
 bo.pl\n---\nPatronat:\nWarsawholic \nExample.pl\nGoing.
ATTACH;FMTTYPE=image/jpeg:https://night4u.pl/wp-content/uploads/2020/01/13
 2467_image_81487832_2517381475193350_4901209068066045952_o.jpg
CATEGORIES:mazowieckie
LOCATION:NIEBO\, ul. Nowy Świat 21\, Warsaw\, 00-029\, Poland
GEO:52.23238;21.018267
X-APPLE-STRUCTURED-LOCATION;VALUE=URI;X-ADDRESS=ul. Nowy Świat 21\, Warsaw
 \, 00-029\, Poland;X-APPLE-RADIUS=100;X-TITLE=NIEBO:geo:52.23238,21.018267
END:VEVENT
BEGIN:VTIMEZONE
TZID:Europe/Warsaw
X-LIC-LOCATION:Europe/Warsaw
BEGIN:STANDARD
DTSTART:20191027T020000
TZOFFSETFROM:+0200
TZOFFSETTO:+0100
TZNAME:CET
END:STANDARD
END:VTIMEZONE
END:VCALENDAR