BEGIN:VCALENDAR
VERSION:2.0
PRODID:-//wp-events-plugin.com//7.2.3.1//EN
TZID:Europe/Warsaw
X-WR-TIMEZONE:Europe/Warsaw
BEGIN:VEVENT
UID:6677@night4u.pl
DTSTART;TZID=Europe/Warsaw:20190209T203000
DTEND;TZID=Europe/Warsaw:20190210T030000
DTSTAMP:20190207T103514Z
URL:https://night4u.pl/wydarzenia/muzykoterapia-4/
SUMMARY:Muzykoterapia !
DESCRIPTION:Przyjdź\, przyprowadź znajomych  i przekonaj się co to jest 
 Muzykoterapia\n\nWstęp:+18\n8 zł kobiety\n13 zł mężczyźni\n2 zł sza
 tnia\n8 zł Studenci do godziny 23:00 za okazaniem legitymacji studenckiej
  \nDo 22:00 wstęp gratis\nna wejściu obowiązuje selekcja:)  \nszatnia 2
  zł\n\nRezerwacja stolików: remedium.klub@gmail.com\, tel. 799 200 000 l
 ub na profilu Remedium\nodbiór rezerwacji do 23:00\nopłata za rezerwacje
  50 zł\n(kwota tak do wykorzystania na barze w dniu imprezy)
ATTACH;FMTTYPE=image/jpeg:https://night4u.pl/wp-content/uploads/2019/02/19
 567_image_51177604_2238539659500727_8217330060059738112_n.jpg
CATEGORIES:śląskie
LOCATION:Remedium\, Sucha 7c\, Sosnowiec\, 41-200\, Poland
GEO:50.297428;19.133436
X-APPLE-STRUCTURED-LOCATION;VALUE=URI;X-ADDRESS=Sucha 7c\, Sosnowiec\, 41-2
 00\, Poland;X-APPLE-RADIUS=100;X-TITLE=Remedium:geo:50.297428,19.133436
END:VEVENT
BEGIN:VTIMEZONE
TZID:Europe/Warsaw
X-LIC-LOCATION:Europe/Warsaw
BEGIN:STANDARD
DTSTART:20181028T020000
TZOFFSETFROM:+0200
TZOFFSETTO:+0100
TZNAME:CET
END:STANDARD
END:VTIMEZONE
END:VCALENDAR