BEGIN:VCALENDAR
VERSION:2.0
PRODID:-//wp-events-plugin.com//7.2.3.1//EN
TZID:Europe/Warsaw
X-WR-TIMEZONE:Europe/Warsaw
BEGIN:VEVENT
UID:16852@night4u.pl
DTSTART;TZID=Europe/Warsaw:20190629T150000
DTEND;TZID=Europe/Warsaw:20190629T235900
DTSTAMP:20190522T094322Z
URL:https://night4u.pl/wydarzenia/na-co-czekasz-pres-na-tarasie-dach-galer
 ii-mm-lista-fb/
SUMMARY:Na co czekasz?! Pres. Na Tarasie / Dach Galerii MM /*lista FB
DESCRIPTION:Letnia aura jest już wyczuwalna w powietrzu więc zaplanowali
 śmy coś\, co powinniście zapisać w swoich kalendarzach. \n\nUniesiemy 
 się pare pięter w górę\, aby na świeżym powietrzu poczuć klimat lat
 a\, dżwieku z płyty vinylowej oraz smak dobrego trunku z widokiem na cen
 trum Poznania :)\n\nO selekcje muzyczną zadbają:\n\n- Lcaise (Tanztone R
 ecords / Berlin)\n- Dawid Korniak (TANZ BAR / Canalia / Szczecin)\n- Venzi
 o (Czarny Wosk / Poznań)\n- Sourge (Czarny Wosk / Poznań)\n- Robert Bła
 szczyk (Na co czekasz ? / Krobman / Koszalin)\n\nData: 29.06\nStart: 15:00
 \nWejście: Lista FB do 20:00 Free / po 20:00 15PLN\n\nMiejsce: \nGaleria 
 MM\, III piętro (Taras przy MK Bowling) \nul. Święty Marcin 24\, Pozna
 ń
ATTACH;FMTTYPE=image/jpeg:https://night4u.pl/wp-content/uploads/2019/05/41
 299_image_60853982_2006196516156264_1193321719339679744_o.jpg
CATEGORIES:wielkopolskie
LOCATION:Galeria MM\, ul. Święty Marcin 24\, Poznan\, 61-805\, Poland
GEO:52.40655;16.927902
X-APPLE-STRUCTURED-LOCATION;VALUE=URI;X-ADDRESS=ul. Święty Marcin 24\, Po
 znan\, 61-805\, Poland;X-APPLE-RADIUS=100;X-TITLE=Galeria MM:geo:52.40655,
 16.927902
END:VEVENT
BEGIN:VTIMEZONE
TZID:Europe/Warsaw
X-LIC-LOCATION:Europe/Warsaw
BEGIN:DAYLIGHT
DTSTART:20190331T030000
TZOFFSETFROM:+0100
TZOFFSETTO:+0200
TZNAME:CEST
END:DAYLIGHT
END:VTIMEZONE
END:VCALENDAR