BEGIN:VCALENDAR
VERSION:2.0
PRODID:-//wp-events-plugin.com//7.2.3.1//EN
TZID:Europe/Warsaw
X-WR-TIMEZONE:Europe/Warsaw
BEGIN:VEVENT
UID:39125@night4u.pl
DTSTART;TZID=Europe/Warsaw:20191215T180000
DTEND;TZID=Europe/Warsaw:20191215T210000
DTSTAMP:20191215T091646Z
URL:https://night4u.pl/wydarzenia/na-odcinku-specjalnym-7/
SUMMARY:Na Odcinku Specjalnym #7
DESCRIPTION:Serdeczne zapraszamy na siódme\, świąteczne spotkanie z cykl
 u "Na Odcinku Specjalnym". \nGoście naszego spotkania przeniosą nas w ś
 wiat sportów samochodowych\, ostrych zakrętów\, palenia sprzęgła i pe
 rmanentnego "gazu do dechy"\, po to\, by przybliżyć nam tę dynamicznie 
 rozwijającą się w Polsce dziedzinę sportu.  \n\nNa tym ekscytującym s
 potkaniu\, na naszej scenie\, wystąpią przed Państwem:\n\n*MISTRZ POLSK
 I Mikołaj "MIKO" Marczyk - kierowca rajdowy reprezentujący zespół Skod
 a Polska Motosport. W sezonie 2017 sięgnął po tytuł Rajdowego Mistrza 
 Polski w klasie Open N\, przechodząc do historii jako najmłodszy zwycię
 zca tej klasyfikacji. Sezon 2018 zakończył na drugim miejscu ze stratą 
 jednego punktu do Grzegorza Grzyba. W sezonie 2019 sięgnął po koronę M
 ISTRZ POLSKI w klasyfikacji generalnej RSMP.\n\n*Szymon Gospodarczyk-34 le
 tni pilot rajdowy z Jordanowa. Od trzech sezonów pilot Miko Marczyka w Ra
 jdowych Samochodowych Mistrzostwach Polski w barwach Subaru oraz w dwóch 
 ostatnich sezonach w barwach Skoda Motosport Polska. Rok 2019 uwienczyl ty
 tulem Mistrza Polski w klasyfikacji generalnej RSMP. \n\n*Wydarzenie popro
 wadzi niezastąpiony Piotr Gierczak. \n\nSpecjalnie na tą okoliczność p
 rzygotowaliśmy możliwość wirtualnego przejazdu profesjonalnym\, trenin
 gowym symulatorem! Każdy będzie mógł poczuć się\, jak Mikołaj\, czy
  Szymon w akcji!\n\nDzięki naszym sponsorom przygotowaliśmy konkurs dla 
 uważnych słuchaczy\, w którym do wygrania będą atrakcyjne nagrody nie
 spodzianki \;)\n\nA dla wszystkich fanów czterech kółek\, w bramie przy
  Barlickiego 4\, będziemy mieli możliwość zapoznać się z samochodami
  SKODA Fabia R5 oraz FORD Fiesta Proto\, które będą naszą wisienką na
  torcie. \n\nWstęp na wydarzenie bezpłatny!\nTo będzie rewelacyjna nied
 ziela :)
ATTACH;FMTTYPE=image/jpeg:https://night4u.pl/wp-content/uploads/2019/12/11
 4507_image_76926990_1037837949892215_2981337783148216320_n.jpg
CATEGORIES:łódzkie
LOCATION:Ęklawa - klub kultura kawa\, Barlickiego 4 (wejście przez bramę
 )\, Tomaszów Mazowiecki\, 97-200\, Poland
GEO:51.535339;20.008341
X-APPLE-STRUCTURED-LOCATION;VALUE=URI;X-ADDRESS=Barlickiego 4 (wejście prz
 ez bramę)\, Tomaszów Mazowiecki\, 97-200\, Poland;X-APPLE-RADIUS=100;X-T
 ITLE=Ęklawa - klub kultura kawa:geo:51.535339,20.008341
END:VEVENT
BEGIN:VTIMEZONE
TZID:Europe/Warsaw
X-LIC-LOCATION:Europe/Warsaw
BEGIN:STANDARD
DTSTART:20191027T020000
TZOFFSETFROM:+0200
TZOFFSETTO:+0100
TZNAME:CET
END:STANDARD
END:VTIMEZONE
END:VCALENDAR