BEGIN:VCALENDAR
VERSION:2.0
PRODID:-//wp-events-plugin.com//7.2.3.1//EN
TZID:Europe/Warsaw
X-WR-TIMEZONE:Europe/Warsaw
BEGIN:VEVENT
UID:21055@night4u.pl
DTSTART;TZID=Europe/Warsaw:20190726T223000
DTEND;TZID=Europe/Warsaw:20190727T073000
DTSTAMP:20190704T024905Z
URL:https://night4u.pl/wydarzenia/nacht-x-prozak-2-0-4/
SUMMARY:Nacht x Prozak 2.0
DESCRIPTION:NACHT to czas od zmierzchu do świtu\, który sprzyja zatraceni
 u. Pozwala oddać się tajemnicy czerni nocy rozproszonej przez zsynchroni
 zowane z pulsem basu światła. Schodząc na poziom - 2 tę czasoprzestrze
 ń wypełnią brzmienia wysublimowanego techno po raz pierwszy w Prozak 2.
 0 zaprezentowane przez Vi i Re_silence.\n\n[-2] NACHT\nDiscox\nVi\nRe_sile
 nce\nlights: Tving Stage Design\n\nDo 23:00: wejście FREE dla osób “bi
 orących udział” w wydarzeniu.\nPo 23:00: 10/ 20 PLN.\n\n---\nNACHT is 
 the time from dusk to dawn\, in which you can lose yourself. Give yourself
  to the mystery of the blackness of night scattered by the synchronized wi
 th the pulse of the bass of light. Going down to level - 2 this space-time
  will fill the sounds of sophisticated techno for the first time in Prozak
  2.0 presented by Vi and Re_silence.\n\n[-2] NACHT\nDiscox\nVi\nRe_silence
 \nlights: Tving Stage Design\n\nBy 11pm: FREE entry for Facebook “going
 ” list.\nAfter 11pm: 10/ 20 PLN.
ATTACH;FMTTYPE=image/jpeg:https://night4u.pl/wp-content/uploads/2019/07/50
 295_image_65588254_2370712656322803_4405627162741178368_o.jpg
CATEGORIES:małopolskie
LOCATION:Prozak 2.0\, Plac Dominikański 6\, Kraków\, 31-032\, Poland
GEO:50.058986;19.938203
X-APPLE-STRUCTURED-LOCATION;VALUE=URI;X-ADDRESS=Plac Dominikański 6\, Krak
 ów\, 31-032\, Poland;X-APPLE-RADIUS=100;X-TITLE=Prozak 2.0:geo:50.058986,
 19.938203
END:VEVENT
BEGIN:VTIMEZONE
TZID:Europe/Warsaw
X-LIC-LOCATION:Europe/Warsaw
BEGIN:DAYLIGHT
DTSTART:20190331T030000
TZOFFSETFROM:+0100
TZOFFSETTO:+0200
TZNAME:CEST
END:DAYLIGHT
END:VTIMEZONE
END:VCALENDAR