BEGIN:VCALENDAR
VERSION:2.0
PRODID:-//wp-events-plugin.com//7.2.3.1//EN
TZID:Europe/Warsaw
X-WR-TIMEZONE:Europe/Warsaw
BEGIN:VEVENT
UID:11304@night4u.pl
DTSTART;TZID=Europe/Warsaw:20190531T170000
DTEND;TZID=Europe/Warsaw:20190531T190000
DTSTAMP:20190403T162050Z
URL:https://night4u.pl/wydarzenia/nagrania-do-recordu-guinnessa/
SUMMARY:Nagrania do RECordu Guinnessa!
DESCRIPTION:Uwaga\, Uwaga!!! W 2021 roku próbujemy w Szczecinie pobić rek
 ord Guinnessa w stworzeniu największego zespołu muzycznego!! \nwww.funda
 cjabezkasy.pl\n\nJeśli jesteś zainteresowany wydarzeniem i chcesz się p
 okazać na klipie reklamującym\, przyjdź do nas ze swoim instrumentem 31
  maja!\n\n\n\nUTWÓR KTÓRY GRAMY:\nBlur - Song 2\n\n\nWEŹCIE SWOJE INSTR
 UMENTY I KABLE (gitara\, bas itd). Wzmacniaczy nie potrzeba :D\n\n\nNie wa
 żne na czym grasz\, liczy się obecność i chęci!
ATTACH;FMTTYPE=image/jpeg:https://night4u.pl/wp-content/uploads/2019/04/29
 359_image_55597524_1265446336942234_1893698883792404480_o.jpg
CATEGORIES:wielkopolskie
LOCATION:Klub 9stóp\, Piątkowska 92\, Poznan\, 60-649\, Poland
GEO:52.429505;16.917341
X-APPLE-STRUCTURED-LOCATION;VALUE=URI;X-ADDRESS=Piątkowska 92\, Poznan\, 6
 0-649\, Poland;X-APPLE-RADIUS=100;X-TITLE=Klub 9stóp:geo:52.429505,16.917
 341
END:VEVENT
BEGIN:VTIMEZONE
TZID:Europe/Warsaw
X-LIC-LOCATION:Europe/Warsaw
BEGIN:DAYLIGHT
DTSTART:20190331T030000
TZOFFSETFROM:+0100
TZOFFSETTO:+0200
TZNAME:CEST
END:DAYLIGHT
END:VTIMEZONE
END:VCALENDAR