BEGIN:VCALENDAR
VERSION:2.0
PRODID:-//wp-events-plugin.com//7.2.3.1//EN
TZID:Europe/Warsaw
X-WR-TIMEZONE:Europe/Warsaw
BEGIN:VEVENT
UID:32690@night4u.pl
DTSTART;TZID=Europe/Warsaw:20191023T200000
DTEND;TZID=Europe/Warsaw:20191023T220000
DTSTAMP:20200401T080831Z
URL:https://night4u.pl/wydarzenia/nagrobki-w-luksusie-23-10/
SUMMARY:Nagrobki w Luksusie! | 23.10
DESCRIPTION:Nagrobki powracają do Wrocławia z nowym długograjem pt. "Pod
  ziemią"\, którego premiera odbędzie się 11 października. Album promu
 ją single:\n\n"Mój dół" - https://www.youtube.com/watch?v=peDPpSOxSfQ\
 n"Spalam się" - https://www.youtube.com/watch?v=Kn_uP916nZ4\n\nNagrobki t
 worzą Maciej Salamon (giatara\, wokal) i Adam Witkowski (perkusja\, wokal
 ). Muzyka zespołu to autorska mieszanka gitarowego noizu\, zimnej fali\, 
 big beatu oraz wczesnego black metalu. \n\nZgodnie z tym\, czego można sp
 odziewać się po zespole o tej nazwie - teksty wszystkich piosenek traktu
 ją o przemijaniu\, śmierci i odchodzeniu.\n\nNa płytach Pańskie Werset
 y oraz Granit zespół wspierany były w studio przez Olo Walickiego\, Mik
 ołaja Trzaskę\, Tomasza Ziętka i Michała Skroka.\n\nhttps://nagrobki.b
 andcamp.com/\n\nZespół stworzył również muzykę do spektakli teatraln
 ych: Intro Narodowego Teatru Dada von Bzdülöw\, dwóch sztuk w reżyseri
 i Michała Kmiecika - Słowo o Jakóbie Szeli Teatr Śląski w Katowicach 
 i Portret Trumienny Teatr Polski w Poznaniu\, a także słuchowiska i jego
  inscenizacji na podstawie dramatu Koniec Przemocy autorstwa i w reżyseri
 i Magdy Mosiewicz i Bogny Burskiej.\n\nNagrobki zagrały do tej pory okoł
 o 120 koncertów w kraju i za granicą (m.in. Opener\, OFF\, Unsound\, Spr
 ingbreak\, Tauron Nowa Muzyka).\n\nZespół wystawia również swoje dzie
 ła w galeriach sztuki. Do tej pory prezentował je na pokazach\n\nGdzieko
 lwiek idę\, idzie śmierć\, 2017\, Kronika\, Bytom\nKolejny rok w urnie\
 , 2018\, Trafostacja Sztuki\, Szczecin\nBiennale Warszawa\, 2018\, Warszaw
 a\nSpalam się\, 2019\, Państwowa Galeria Sztuki\, Sopot\n\n+++++++++++++
 ++++++++++++++\n\n23.10.19 (środa)\nD.K. Luksus\nWita Stwosza 16\, Wrocł
 aw\n\nstart: 20:00\nbilety: 25zł (przedsprzedaż online)/25zł w dniu kon
 certu\n\nlub na GoOut: https://goout.net/pl/koncerty/nagrobki/gkmse/+dvxsn
 /
ATTACH;FMTTYPE=image/jpeg:https://night4u.pl/wp-content/uploads/2019/10/79
 860_image_74272606_410418106322521_7697028285779148800_n.jpg
CATEGORIES:dolnośląskie
LOCATION:D.K. Luksus\, Wita Stwosza 16\, Wroclaw\, 50-148\, Poland
GEO:51.10958;17.03678
X-APPLE-STRUCTURED-LOCATION;VALUE=URI;X-ADDRESS=Wita Stwosza 16\, Wroclaw\,
  50-148\, Poland;X-APPLE-RADIUS=100;X-TITLE=D.K. Luksus:geo:51.10958,17.03
 678
END:VEVENT
BEGIN:VTIMEZONE
TZID:Europe/Warsaw
X-LIC-LOCATION:Europe/Warsaw
BEGIN:DAYLIGHT
DTSTART:20190331T030000
TZOFFSETFROM:+0100
TZOFFSETTO:+0200
TZNAME:CEST
END:DAYLIGHT
END:VTIMEZONE
END:VCALENDAR