BEGIN:VCALENDAR
VERSION:2.0
PRODID:-//wp-events-plugin.com//7.2.3.1//EN
TZID:Europe/Warsaw
X-WR-TIMEZONE:Europe/Warsaw
BEGIN:VEVENT
UID:31664@night4u.pl
DTSTART;TZID=Europe/Warsaw:20191115T220000
DTEND;TZID=Europe/Warsaw:20191116T050000
DTSTAMP:20191115T214952Z
URL:https://night4u.pl/wydarzenia/napije-sie-wodki-i-rozwiaze-wezel-gordyj
 ski/
SUMMARY:Napiję się wódki i rozwiążę węzeł gordyjski
DESCRIPTION:Nie trzeba być Aleksandrem Wielkim aby rozwiązywać trudne sp
 rawy.\nCzęsto aby wpaść na wspaniały pomysł wystarczy sięgnąć po k
 ilka kieliszków wódki \;)\n\nNie trzeba też iść na prawdziwe wesele\,
  aby poczuć klimat doskonałej zabawy.\nNa parkiecie w Gorzko czekają na
  Was: pociągi\, kółeczka\, kaczuszki i inne kankany.\nO godz. 2:00 kult
 owe oczepiny.\nPrzez całą noc szampan\, stolik wiejski i najlepsza wesel
 na muzyka.\n\n♥♥♥♥♥♥♥♥♥♥♥♥♥♥♥♥♥♥♥♥
 ♥♥♥♥\n▬▬▬▬▬▬▬▬▬▬▬▬▬▬▬▬▬▬▬▬
 ▬▬▬▬▬▬▬▬\n\nWstęp:\n[18+] - wyłącznie za okazaniem doku
 mentu tożsamości\n\n22:00-23:00 (Lista Fb free)\nPozostali - 10 PLN\n\n
 ✮ Karty klubowe Gorzko Gorzko - darmowy wstęp przez całą noc (jedna/u
 niwersalna karta do wszystkich naszych lokali) ✮\n\nBez stroju formalneg
 o\, ubierz się tak jak Ci wygodnie.\nAczkolwiek dresy\, bojówki itp. str
 oje zostawiamy sobie na inną okazję \;)\n\n▬▬▬▬▬▬▬▬▬
 ▬▬▬▬▬▬▬▬▬▬▬▬▬▬▬▬▬▬▬\n\nGorzko Gorzko
  Sopot to klub\, w którym w każdy Piątek i Sobotę odbywają się dysko
 teki weselne.\nWodzirej\, fotobudka\, muzyka i zabawy weselne\, przekąski
  oraz powitalny szampan.\nTo tylko część z atrakcji\, których u nas do
 świadczycie.\n\nHej wesele\, hej wesele tańcowało... !
ATTACH;FMTTYPE=image/jpeg:https://night4u.pl/wp-content/uploads/2019/10/74
 625_image_70603232_2389570568036921_490217388092948480_n.jpg
CATEGORIES:pomorskie
LOCATION:Gorzko Gorzko Sopot\, Armii Krajowej 111\, Sopot\, 81-824\, Poland
GEO:54.444101;18.55535
X-APPLE-STRUCTURED-LOCATION;VALUE=URI;X-ADDRESS=Armii Krajowej 111\, Sopot\
 , 81-824\, Poland;X-APPLE-RADIUS=100;X-TITLE=Gorzko Gorzko Sopot:geo:54.44
 4101,18.55535
END:VEVENT
BEGIN:VTIMEZONE
TZID:Europe/Warsaw
X-LIC-LOCATION:Europe/Warsaw
BEGIN:STANDARD
DTSTART:20191027T020000
TZOFFSETFROM:+0200
TZOFFSETTO:+0100
TZNAME:CET
END:STANDARD
END:VTIMEZONE
END:VCALENDAR