BEGIN:VCALENDAR
VERSION:2.0
PRODID:-//wp-events-plugin.com//7.2.3.1//EN
TZID:Europe/Warsaw
X-WR-TIMEZONE:Europe/Warsaw
BEGIN:VEVENT
UID:6847@night4u.pl
DTSTART;TZID=Europe/Warsaw:20190409T200000
DTEND;TZID=Europe/Warsaw:20190409T230000
DTSTAMP:20190210T155401Z
URL:https://night4u.pl/wydarzenia/natalia-lubrano-spiewa-piosenki-kaliny-j
 edrusik/
SUMMARY:Natalia Lubrano śpiewa piosenki Kaliny Jędrusik!
DESCRIPTION:Natalia Lubrano śpiewa piosenki Kaliny Jędrusik!\n\nEthno Jaz
 z Festival zaprasza 9 kwietnia do Sali Gotyckiej w Starym Klasztorze na wi
 eczór poświęcony twórczości Kaliny Jędrusik\, który poprowadzi wspa
 niała wrocławska wokalistka Natalia Lubrano z najlepszym składem jazzow
 ym:\nNatalia Lubrano - wokal\;\nPiotr Rachoń - fortepian\;\nWojtek Bergan
 der - kontrabas\;\nMarcin Rak- perkusja.\n\n------------------------------
 \n\nKalina Jędrusik to niezapomniana polska aktorka teatralna i filmowa\,
  piosenkarka i artystka kabaretowa.\nOgromną popularność przyniósł Ka
 linie Jędrusik udział w programach telewizyjnych Kabaretu Starszych Pan
 ów oraz kreacje filmowe\, m.in. Joanny w Lekarstwie na miłość w reż. 
 Jana Batorego.\nW latach 60. i 70. uchodziła za symbol seksu. W 1976 roku
  występowała w duetach z Violettą Villas\, głównie w Stanach Zjednocz
 onych.\nW plebiscycie na najlepszą aktorkę w historii polskiego filmu\, 
 zorganizowanym w 1996 roku przez redakcję pisma „Film” z okazji 100-l
 ecia kina\, zajęła trzecie miejsce.\n\n---------------------------------
 -------\nNatalia Lubrano – urodzona we Wrocławiu wokalistka\, kompozyto
 rka i autorka tekstów\, związana z wrocławską sceną muzyczną do dzi
 ś.\nWywodzi się z rodziny muzykującej. Ojciec – Andrzej Pluszcz był 
 wybitnym basistą\, twórcą pierwszego podręcznika na gitarze basowej\, 
 wykładowcą na warsztatach bluesowych\, związanym ze środowiskiem blues
 owo–jazzowym. Na polskiej scenie muzycznej znana jest z wieloletniej wsp
 ółpracy ze środowiskiem wrocławskich hip–hopowców oraz ze współpr
 acy zespołem „Miloopa”\, z którym wydała cztery albumy: „Nutritio
 n Facts”\, „Unicode”\, „Optica” i "Verke" .\nWraz z Miloopą poj
 awiła się na kilku składankach\, wydanych m.in. w Wielkiej Brytanii (Kn
 owledge Magazine mix cd) Z Miloopą także zagrała także kilkadziesiąt 
 koncertów przede wszystkim za granicą\, m.in. na Sziget Festiwal\, Unite
 d Islands\, Be2gether Festival\, Fete De La Musique Luxembourg\, United Is
 lands of Prague\, Creamfields\, JDM Festival\, Open’er\, Summer of Music
 \, Szene Festival\, Green Valley\, dodatkowo odbyła wspólne trasy koncer
 towe z Jojo Mayer’s Nerve (USA)\, Beanfield (DE)\, Micatone (DE)\, Dj Fi
 rst Rate (UK)\, Forss vs Borg (Sonar Kollektiv).\nWystępowała również 
 z Andrzejem Smolikiem\, Renatą Przemyk\, a także w projekcie „FoxBox
 ” u boku Noviki\, Marii Peszek\, Pauliny Przybysz i innych reprezentatyw
 nych artystów swego pokolenia. Udzieliła swojego głosu na około dwudzi
 estu albumach innych muzyków.\nW 2012 roku wystąpiła m.in. na 49. Krajo
 wym Festiwalu Polskiej Piosenki w Opolu w koncercie poświęconym pamięci
  Anny Jantar i Jarosława Kukulskiego pt „Życia mała garść”\, gdzi
 e wykonała utwór „Nic nie może wiecznie trwać” w aranżacji swojeg
 o zespołu.\nW marcu 2012 roku ukazała się autorska płyta wokalistki i 
 jej zespołu pt „R.E.S.P.E.C.T.” wydana przez wydawnictwo Kayax.\nLaur
 eatka 35 Przeglądu Piosenki Aktorskiej we Wrocławiu\, gdzie zdobyła nag
 rodę publiczności oraz nagrodę jury za walory wokalne.\nObecnie wokalis
 tka pracuje nad swoim drugim albumem.\n\n\n9.04.19 godz.20.00 Sala Gotycka
  w Starym Klasztorze\, ul. Purkyniego 1\nNATALIA LUBRANO śpiewa piosenki 
 KALINY JĘDRUSIK\nbilety: 50 zł – I miejsca\, 40 zł – II miejsca\, 3
 0 zł – miejsca stojące\n\nBilety dostępne w sieci salonów Empik i Me
 diaMarkt w całej Polsce\noraz w serwisach: www.staryklasztor.com.pl/bilet
 y/\, www.biletin.pl\, www.biletyna.pl\, www.eventim.pl\, www.ebilet.pl\, w
 ww.kupbilecik.pl\, www.empikbilety.pl \nrezerwacje: bilety@o2.pl\n\nUwaga\
 , kupuj bilety wyłącznie w autoryzowanych punktach! \nZakup biletów poz
 a autoryzowanymi punktami sprzedaży (Facebook\, aukcje internetowe\, syst
 emy odsprzedaży biletów itp.) stwarza ryzyko zakupu biletów nieoryginal
 nych lub nieważnych\, które nie umożliwią wejścia na koncert.
ATTACH;FMTTYPE=image/jpeg:https://night4u.pl/wp-content/uploads/2019/02/19
 987_image_50713200_2042553722526419_4853136448309690368_o.jpg
CATEGORIES:dolnośląskie
LOCATION:Stary Klasztor\, Purkyniego 1\, Wroclaw\, 50-155\, Poland
GEO:51.110198;17.039162
X-APPLE-STRUCTURED-LOCATION;VALUE=URI;X-ADDRESS=Purkyniego 1\, Wroclaw\, 50
 -155\, Poland;X-APPLE-RADIUS=100;X-TITLE=Stary Klasztor:geo:51.110198,17.0
 39162
END:VEVENT
BEGIN:VTIMEZONE
TZID:Europe/Warsaw
X-LIC-LOCATION:Europe/Warsaw
BEGIN:DAYLIGHT
DTSTART:20190331T030000
TZOFFSETFROM:+0100
TZOFFSETTO:+0200
TZNAME:CEST
END:DAYLIGHT
END:VTIMEZONE
END:VCALENDAR