BEGIN:VCALENDAR
VERSION:2.0
PRODID:-//wp-events-plugin.com//7.2.3.1//EN
TZID:Europe/Warsaw
X-WR-TIMEZONE:Europe/Warsaw
BEGIN:VEVENT
UID:2904@night4u.pl
DTSTART;TZID=Europe/Warsaw:20190119T220000
DTEND;TZID=Europe/Warsaw:20190120T050000
DTSTAMP:20190108T162501Z
URL:https://night4u.pl/wydarzenia/natalia-luszczak-vocal-lista-fb-free-do-
 2300/
SUMMARY:Natalia Łuszczak VOCAL // // lista fb free do 23:00
DESCRIPTION:LISTA FB WCHODZI FREE DO 23:00! \nWYSTARCZY KLIKNĄĆ "WEZMĘ U
 DZIAŁ"\nLISTĘ ZAMYKAMY O 19:00!\n\nTej nocy gościmy obdarzoną niezwyk
 łym wokalem Natalia Łuszczak 
ATTACH;FMTTYPE=image/jpeg:https://night4u.pl/wp-content/uploads/2019/01/99
 48_image_49686213_2198713153735851_6310723240469725184_o.jpg
CATEGORIES:pomorskie
LOCATION:HAH Sopot\, Aleja Franciszka Mamuszki 21 (obok wejścia nr 13 na p
 lażę)\, Sopot\, 81-712\, Poland
GEO:54.453133;18.563739
X-APPLE-STRUCTURED-LOCATION;VALUE=URI;X-ADDRESS=Aleja Franciszka Mamuszki 2
 1 (obok wejścia nr 13 na plażę)\, Sopot\, 81-712\, Poland;X-APPLE-RADIU
 S=100;X-TITLE=HAH Sopot:geo:54.453133,18.563739
END:VEVENT
BEGIN:VTIMEZONE
TZID:Europe/Warsaw
X-LIC-LOCATION:Europe/Warsaw
BEGIN:STANDARD
DTSTART:20181028T020000
TZOFFSETFROM:+0200
TZOFFSETTO:+0100
TZNAME:CET
END:STANDARD
END:VTIMEZONE
END:VCALENDAR