BEGIN:VCALENDAR
VERSION:2.0
PRODID:-//wp-events-plugin.com//7.2.3.1//EN
TZID:Europe/Warsaw
X-WR-TIMEZONE:Europe/Warsaw
BEGIN:VEVENT
UID:40552@night4u.pl
DTSTART;TZID=Europe/Warsaw:20200424T200000
DTEND;TZID=Europe/Warsaw:20200424T210000
DTSTAMP:20200322T174347Z
URL:https://night4u.pl/wydarzenia/natalia-nykiel-origo-tour-radom-bilety/
SUMMARY:Natalia Nykiel - Origo Tour Radom bilety
DESCRIPTION:Natalia Nykiel rusza w trasę promującą swój minialbum zatyt
 ułowany „ORIGO”\, który wydała z zaskoczenia 15 listopada 2019 robi
 ąc olbrzymią niespodziankę swoim fanom!\n\nMinialbum „Origo” to wyj
 ątkowo ważny krok w dyskografii Natalii Nykiel. Autorka wielokrotnie nag
 radzanych płyt „Lupus Electro” i „Discordia”\, wydała bez zapowi
 edzi mocną i bardzo emocjonalną EP-kę. „Origo” to zapis wewnętrzny
 ch przemian dziewczyny\, która wyrusza w podróż do swoich korzeni. Za p
 rodukcję albumu odpowiada ponownie Michał Fox Król.\n\nArtystka przyzwy
 czaiła nas do starannego doboru współpracowników przy tworzeniu swoich
  płyt\, jednak tym razem lista nazwisk pojawiających się na odwrocie p
 łyty jest naprawdę imponująca. Twórcami nowych utworów są tacy międ
 zynarodowi artyści\, jak Stevie Aiello (kierownik muzyczny zespołu Thirt
 y Seconds To Mars\, kompozytor m.in. „Dangerous Night” i „Hait To Th
 e Victor”) czy brytyjskie objawienie muzyki soul\,czyli Daley\, który w
 spółpracował wcześniej m.in. z Pharrellem Williamsem\, a na swoim konc
 ie ma gwiazdorskie duety z Jessie J\, Gorillaz czy Jill Scott. Teraz przys
 zedł czas na duet z Natalią.\n\nTo nie wszystko. Josh Farro i Hayley Wil
 liams z Paramore udzielili zgody na wykorzystanie fragmentu ich przeboju 
 „Careful” w najnowszym singlu Natalii „Volcano”. W jednym z utwor
 ów artystce towarzyszy folkowy Rodzinny Zespół Śpiewaczy z Rakowicz. C
 zęść nagrań odbyła się w Electric Feel Studios w Kaliforni\, gdzie s
 woją najnowszą płytę zarejestrował m.in. Post Malone\, czy ostatnie h
 ity nagrywała RosalÍa. Za mastering odpowiada laureat Grammy Lewis Hopki
 n ze studia Stardelta w Wielkiej Brytanii.\n\n„Origo” jest pierwszym w
  karierze wydawnictwem Natalii\, które ukazało się na rynku międzynaro
 dowym.\nW Polsce album w wersji fizycznej ukazał się w limitowanym nakł
 adzie 1500 egzemplarzy i zadebiutował na 2. miejscu najchętniej kupowany
 ch płyt w sieci salonów Empik i 12. miejscu Oficjalnej Listy Sprzedaży 
 Płyt w Polsce.\n\n„ORIGO” otrzymało znakomite recenzje dziennikarzy:
 \n\n„Tylko pięć utworów\, ale za to jakich! Jestem pewien\, że kiedy
  Natalia włączy je do swojego repertuaru\, to na jej koncertach zapłoni
 e niejeden parkiet! W tak młodym wieku nie tylko ma na koncie dwie świet
 ne płyty („Lupus Electro” i „Discordia”)\, ale dosłownie rządzi
  i trzęsie polską sceną muzyczną\, wyznacza trendy\, a fanów tak sobi
 e owinęła wokół palca (to nie zarzut!)\, że… tańczą\, jak im zagr
 a. I zaśpiewa. Oczywiście na koncertach. A te są niemal dziełem sztuki
  estradowej. Kto był na choćby jednym występie wokalistki z Mrągowa wi
 e\, że swoimi multimedialnymi widowiskami nie bierze ona jeńców. „Ori
 go” to zapis wewnętrznych przemian dziewczyny\, która wyrusza w podró
 ż do swoich korzeni. I robi to z wielkim rozmachem\, dosłownie na pełne
 j petardzie – swoim tempem oraz brzmieniem nowe utwory Nykiel wręcz zap
 ierają dech w piersiach. Nie bójmy się tego powiedzieć na głos i wyra
 źnie – „Origo” to produkcja na absolutnym światowym poziomie!” 
 – Artur Szklarczyk / CGM.\n\nBILETY W CENIE: od 50 zł\n\nPUNKT SPRZEDA
 ŻY BILETÓW:\nBIG HOLIDAY\nRADOM UL. WAŁOWA 7\n48/679-69-38\, 48/629-32-
 22\, 502-297-666\nbiuro@bigholiday.com.pl\n\nZapraszamy \;)\n\nUwaga: Punk
 t sprzedaży nie jest organizatorem koncertu.
ATTACH;FMTTYPE=image/jpeg:https://night4u.pl/wp-content/uploads/2019/12/12
 2815_image_79871689_2874064299291341_6380171663350169600_n.jpg
CATEGORIES:mazowieckie
LOCATION:Klub Strefa G2\, ul. Przemysłowa 20\, Radom\, 26-610\, Poland
GEO:51.389137;21.149025
X-APPLE-STRUCTURED-LOCATION;VALUE=URI;X-ADDRESS=ul. Przemysłowa 20\, Radom
 \, 26-610\, Poland;X-APPLE-RADIUS=100;X-TITLE=Klub Strefa G2:geo:51.389137
 ,21.149025
END:VEVENT
BEGIN:VTIMEZONE
TZID:Europe/Warsaw
X-LIC-LOCATION:Europe/Warsaw
BEGIN:DAYLIGHT
DTSTART:20200329T030000
TZOFFSETFROM:+0100
TZOFFSETTO:+0200
TZNAME:CEST
END:DAYLIGHT
END:VTIMEZONE
END:VCALENDAR