BEGIN:VCALENDAR
VERSION:2.0
PRODID:-//wp-events-plugin.com//7.2.3.1//EN
TZID:Europe/Warsaw
X-WR-TIMEZONE:Europe/Warsaw
BEGIN:VEVENT
UID:29988@night4u.pl
DTSTART;TZID=Europe/Warsaw:20191019T200000
DTEND;TZID=Europe/Warsaw:20191019T230000
DTSTAMP:20200401T080718Z
URL:https://night4u.pl/wydarzenia/natalia-sikora-z-nowa-plyta-w-starym-kla
 sztorze/
SUMMARY:Natalia Sikora z nową płytą w Starym Klasztorze!
DESCRIPTION:Natalia Sikora z nową płytą w Starym Klasztorze!\n\nKlub Sta
 ry Klasztor zaprasza 19 października na koncert promujący autorską pły
 tę jednej z najciekawszych polskich wokalistek - Natalii Sikory!\nProjekt
  „AILATAN” to autorska płyta Natalii Sikory – wokalistki\, aktorki\
 , zwyciężczyni drugiej edycji Voice of Poland.\n\nNatalia Sikora do tej 
 pory na rynku muzycznym jest głównie znana z jej porywających wykonań 
 piosenek Janis Joplin oraz nagranej w hołdzie dla Miry Kubasińskiej pły
 ty "Tribute to Mira" wydanej w 2018 roku.\n\n„AILATAN” – jak sugeruj
 e tytuł\, czyli wszystko na odwrót\, „zacznijmy wszystko od końca” 
 - to płyta\, na którą Natalia czeka od wielu lat\, pokazująca jej moż
 liwości wokalne\, ale także talent językowy. To płyta autorska\, na kt
 órej Natalia Sikora pokazuje swoją osobowość i skalę możliwości wok
 alnych. Piosenki na tą płytę skomponowali wspólnie członkowie zespoł
 u Natalii oraz ona sama pod czujnym okiem Dariusza Kozakiewicza – gitarz
 ysty Tadeusza Nalepy i Perfectu\, który także skomponował kilka piosene
 k dla Natalii. Nad całością aranżacji muzycznych i kompozycji czuwał 
 Paco Sarr\, w którego studio Walecznych dokonano większości nagrań. Ja
 kość nagrań perkusji gwarantuje Leszek Kamiński\, który zrealizował 
 nagrania w S4 w Polskim Radio.\nTeksty to głównie piosenki Natalii Sikor
 y\, ale znajduje się tutaj także piosenka do słów Marka Gaszyńskiego.
 \n\n"Kto kocha\, nie błądzi… Kluczem jest zawsze Prawda… Poznałam D
 arka Kozakiewicza\, Agnieszkę Jaworską i Paco Sarr’a. Twórczy Cel odn
 alazł Przestrzeń i Czas\, by się autorsko w y r a z i ć. Połączył n
 as Spokój\, a Spokój to upragnione Szczęście. Stworzyliśmy Zespół\,
  który Pasją Doświadczenia skomponował Materiał „Ailatan”.\n„Ai
 latan” to pewna E N E R G I A! To Materiał życia. To pewne rozkodowani
 e. Zbiór Tajemnic. Zapis Zmysłów. Intencje m y ś l e n i a. Zbiór Pra
 gnień i Marzeń. Zapis pewnej w i a r y. To Miłość Muzyki!!!" -  wyzna
 ła  Natalia Sikora\n\n„AILATAN”– to płyta marzeń\, łącząca w s
 obie rocka\, muzykę lat 80.\, ale także współczesnego bluesa w niecodz
 iennych aranżacjach. Jest to efekt przyjaźni i wspaniałej współpracy 
 łączącej pokolenia\, kultury i kontynenty.\n\n19.10.19 godz.20.00 Sala 
 Gotycka w Starym Klasztorze\, ul. Purkyniego 1\nNATALIA SIKORA “Ailatan
 ”\nbilety: 60 zł – I miejsca\, 50 zł – II miejsca\, 40 zł – mie
 jsca stojące\n\nBilety dostępne w sieci salonów Empik i MediaMarkt w ca
 łej Polsce\noraz w serwisach: www.staryklasztor.com.pl/bilety/\, www.bile
 tin.pl\, www.biletyna.pl\, www.eventim.pl\, www.ebilet.pl\, \nrezerwacje: 
 bilety@o2.pl\nUwaga\, w okresie wakacyjnym kasa biletowa w Starym Klasztor
 ze jest nieczynna!\n\nUwaga\, kupuj bilety wyłącznie w autoryzowanych pu
 nktach! \nZakup biletów poza autoryzowanymi punktami sprzedaży (Facebook
 \, aukcje internetowe\, systemy odsprzedaży biletów itp.) stwarza ryzyko
  zakupu biletów nieoryginalnych lub nieważnych\, które nie umożliwią 
 wejścia na koncert.
ATTACH;FMTTYPE=image/jpeg:https://night4u.pl/wp-content/uploads/2019/10/69
 170_image_66585081_2314289362019519_7082093280862666752_o.jpg
CATEGORIES:dolnośląskie
LOCATION:Stary Klasztor\, Purkyniego 1\, Wroclaw\, 50-155\, Poland
GEO:51.110198;17.039162
X-APPLE-STRUCTURED-LOCATION;VALUE=URI;X-ADDRESS=Purkyniego 1\, Wroclaw\, 50
 -155\, Poland;X-APPLE-RADIUS=100;X-TITLE=Stary Klasztor:geo:51.110198,17.0
 39162
END:VEVENT
BEGIN:VTIMEZONE
TZID:Europe/Warsaw
X-LIC-LOCATION:Europe/Warsaw
BEGIN:DAYLIGHT
DTSTART:20190331T030000
TZOFFSETFROM:+0100
TZOFFSETTO:+0200
TZNAME:CEST
END:DAYLIGHT
END:VTIMEZONE
END:VCALENDAR