BEGIN:VCALENDAR
VERSION:2.0
PRODID:-//wp-events-plugin.com//7.2.3.1//EN
TZID:Europe/Warsaw
X-WR-TIMEZONE:Europe/Warsaw
BEGIN:VEVENT
UID:16869@night4u.pl
DTSTART;TZID=Europe/Warsaw:20190606T210000
DTEND;TZID=Europe/Warsaw:20190607T040000
DTSTAMP:20190522T094418Z
URL:https://night4u.pl/wydarzenia/naukowcy-na-wakacjach-spirala-06-06-2019
 /
SUMMARY:Naukowcy Na Wakacjach                    SPIRALA  |06.06.2019|
DESCRIPTION:Już 6 czerwca z okazji piątych Śląskich Dni Biotechnologii 
 - BAKCYL odbędzie się impreza NAUKOWCY NA WAKACJACH!!!\n\nJeśli szukasz
  imprezy z ZASADAMI\, nie lubisz robić KWASU\, pragniesz pić do DNA\, a 
 do tego jesteś szalonym naukowcem - to impreza dla Ciebie!??⚗??\n\nPij
 ąc drinki serwowane w zlewkach chemicznych poczujesz się jak w najwięks
 zym i najbardziej roztańczonym laboratorium świata!⚗⚗⚗\n\nDRESS CO
 DE -wakacje szalonych naukowców ??\nWygrzeb więc swój fartuch z szafy\,
  kolorowe okulary\, najładniejsze rękawiczki i pokaż wszystkim\, że la
 boratoryjny outfit RZĄDZI! Wskazane także wakacyjne dodatki :)\n\n?Start
 : 21:00\n?Dla pierwszych 20 osób przewidziany upominek w HAWAJSKIM stylu 
 ???\n?Wstęp: 5 zł\, jednak dla szczęśliwców możliwe do wygrania wej
 ściówki na bakcylowym meczu siatkówki -  https://www.facebook.com/event
 s/396216657635021/?ti=icl
ATTACH;FMTTYPE=image/jpeg:https://night4u.pl/wp-content/uploads/2019/05/41
 332_image_60397544_2364869820231480_5121356202462150656_n.jpg
CATEGORIES:śląskie
LOCATION:Klub Studencki Spirala\, Pszczyńska 85\, Gliwice\, 44-100\, Polan
 d
GEO:50.28534;18.67771
X-APPLE-STRUCTURED-LOCATION;VALUE=URI;X-ADDRESS=Pszczyńska 85\, Gliwice\, 
 44-100\, Poland;X-APPLE-RADIUS=100;X-TITLE=Klub Studencki Spirala:geo:50.2
 8534,18.67771
END:VEVENT
BEGIN:VTIMEZONE
TZID:Europe/Warsaw
X-LIC-LOCATION:Europe/Warsaw
BEGIN:DAYLIGHT
DTSTART:20190331T030000
TZOFFSETFROM:+0100
TZOFFSETTO:+0200
TZNAME:CEST
END:DAYLIGHT
END:VTIMEZONE
END:VCALENDAR