BEGIN:VCALENDAR
VERSION:2.0
PRODID:-//wp-events-plugin.com//7.2.3.1//EN
TZID:Europe/Warsaw
X-WR-TIMEZONE:Europe/Warsaw
BEGIN:VEVENT
UID:40793@night4u.pl
DTSTART;TZID=Europe/Warsaw:20200117T220000
DTEND;TZID=Europe/Warsaw:20200118T060000
DTSTAMP:20200331T192121Z
URL:https://night4u.pl/wydarzenia/naw365-zaumne/
SUMMARY:Naw365: Zaumne
DESCRIPTION:Mamy już roczek! Z tej okazji chcieliśmy zaprosić Was na dwu
 dniowe świętowanie z klubem Święta Krowa. Drugiego dnia zagrają:\n\nZ
 aumne - eksploruje uczuciową stronę muzyki elektronicznej - zainspirowan
 y ideą języka pozarozumowego\, bada zjawiska i doznania\, które wymykaj
 ą się racjonalnemu poznaniu. W swoich utworach łączy internetowe znale
 ziska z zabrudzonymi\, lecz kojącymi tłami dźwiękowymi. W ubiegłym ro
 ku wydał "Emo dub"\, na którym zestawił szepty z nagrań ASMR z powolny
 mi rytmami muzyki house. Całość tworzy czuły\, acz momentami niepokoj
 ący nastrój emocjonalnej podróży. Jej kontynuacją stały się wydane 
 w tym roku „Błysk” oraz „Contact”. Zrealizował także cykl audyc
 ji „Inner Focus” dla Galerii Zachęta\, który poświęcony został pr
 oblemom ze skupieniem uwagi.\n\n\nhttps://zaumne.bandcamp.com/music\nhttps
 ://www.facebook.com/zaumne\nhttps://soundcloud.com/zaumne\n\n\nKatarina Gr
 yvul -tworzy eksperymentalną muzykę elektroniczną\, saiko ambient. Mies
 za IDM z przetworzonymi samplami symfonicznymi i marzycielskimi wokalami\n
 \nhttps://katarinagryvul.bandcamp.com/releases\nhttps://soundcloud.com/dga
 lapita\n\nBakblivv - Zajmuje się poezją\, filmem eksperymentalnym\, soun
 dartem\, muzyką i sztuką performance. Od 2018 roku związany z krakowski
 m labelem kasetowym Nawia\, zrzeszającym artystów dźwiękowych z pola m
 uzyki elektronicznej/eksperymentalnej. Ma za sobą występ na tegorocznym 
 festiwalu Avant Art w Warszawie\, festiwalu Nadmiar #4 Rewizja i w Krakows
 kiej galerii sztuki Jak Zapomnieć.\nhttps://soundcloud.com/bakblivv\n\nJu
 styna Stasiowska - zajmuje się kolażami dźwiękowymi\, tworząc sztuczn
 e natury do choreogragii\, spektakli\, instalacji\, video. W utworach muzy
 cznych zapętlonym do granic obsesji samplom towarzyszy zwykle możdzież 
 elektronicznego basu i brzęczące beznamiętne wokale TXT2VOX. Interesuj
 ę się porażką w każdym gatunku muzyki i każdej dziedzinie sztuki. \n
 https://soundcloud.com/justyna-stasiowska\n\nlúa - szefu Nawii\, lubi gdy
  zgrzyta i buczy. Nie lubi pisać o sb\nhttps://soundcloud.com/lua909\n\nw
 izu: Serotoninærror\n\nwjazd: 10/15\n\nENG\n\nYour least favourite label 
 is celebrating its first birthday. Join us with:\n\nZaumne - explores emot
 ional side of electronic music. He is inspired by unexplainable phenomena.
  In his work he mixes internet artifacts and often raw but soothing sounds
 . Last year in Czaszka Records he released "Emo Dub"\, which connects ASMR
  whispers with slow house beats. This year he realised "Błysk" and "Conta
 ct" albums\, which were very well received. \n\nhttps://zaumne.bandcamp.co
 m/music\nhttps://www.facebook.com/zaumne\nhttps://soundcloud.com/zaumne\n\
 n\nKatarina Gryvul - experimental electronic music\, saiko ambient. She mi
 xes IDM with processed orchestral samples and dreamy vocals.\n\nhttps://ka
 tarinagryvul.bandcamp.com/releases\nhttps://soundcloud.com/dgalapita\n\nBa
 kblivv - he works with poetry\, film\, sound art\, music and performance a
 rt. Played at Avant Art Festival in Warsaw\n\nhttps://soundcloud.com/bakbl
 ivv\n\nJustyna Stasiowska - she creates sound collages soundtracking video
 s\, instalations\, theatre performances. She likes mixing looping samples 
 with heavy bass and emotionless vocals. Interested in failure\, both in ar
 t and in life\n\nhttps://soundcloud.com/justyna-stasiowska\n\nlúa - papa 
 of Nawia Records\, likes everything dark and naive\nhttps://soundcloud.com
 /lua909\n\nvisuals: Serotoninærror\n\nEntry: 10/15
ATTACH;FMTTYPE=image/jpeg:https://night4u.pl/wp-content/uploads/2019/12/12
 5114_image_79770902_460279298240375_679206510441529344_n.jpg
CATEGORIES:małopolskie
LOCATION:Święta Krowa\, Floriańska 16\, Kraków\, 31-021\, Poland
GEO:50.0631;19.93992
X-APPLE-STRUCTURED-LOCATION;VALUE=URI;X-ADDRESS=Floriańska 16\, Kraków\, 
 31-021\, Poland;X-APPLE-RADIUS=100;X-TITLE=Święta Krowa:geo:50.0631,19.9
 3992
END:VEVENT
BEGIN:VTIMEZONE
TZID:Europe/Warsaw
X-LIC-LOCATION:Europe/Warsaw
BEGIN:STANDARD
DTSTART:20191027T020000
TZOFFSETFROM:+0200
TZOFFSETTO:+0100
TZNAME:CET
END:STANDARD
END:VTIMEZONE
END:VCALENDAR