BEGIN:VCALENDAR
VERSION:2.0
PRODID:-//wp-events-plugin.com//7.2.3.1//EN
TZID:Europe/Warsaw
X-WR-TIMEZONE:Europe/Warsaw
BEGIN:VEVENT
UID:43858@night4u.pl
DTSTART;TZID=Europe/Warsaw:20200229T200000
DTEND;TZID=Europe/Warsaw:20200229T220000
DTSTAMP:20200229T002543Z
URL:https://night4u.pl/wydarzenia/neoklez-%e2%96%b2-koncert-x-dom-kultury-
 %e2%96%b2-29-02-2020/
SUMMARY:NeoKlez ▲ Lublin x Dom Kultury ▲ 29.02.2020
DESCRIPTION:NeoKlez - klezmersko-bałkański koncert w Domu Kultury!\n\nBIL
 ETY: https://goingapp.pl/evt/2203262/neoklez\n\nZapraszamy 29 lutego do Do
 mu Kultury na koncert zespołu NeoKlez - jednego z najciekawszych reprezen
 tantów polskiej sceny world music. Zespół wystąpi w ramach trasy promu
 jącej nowy album "Votum Separatum".\n\n„Energetyzująca i bezkompromiso
 wa grupa NeoKlez" - takimi słowami najczęściej zaczynają się zapowied
 zi ich koncertów. Po sukcesie albumów „Pięć stron świata" oraz „M
 anowce" artyści podróżują po zakątkach Polski i Europy\, prezentując
  własne\, łobuzerskie i energetyczne spojrzenie na muzykę. Ich kompozyc
 je charakteryzuje nieregularne metrum\, przesunięcia rytmiczne oraz łąc
 zenie tradycyjnego brzmienia z elementami współczesnej muzyki popularnej
 \, jak: drum'n'bass\, electro\, jazz\, funk\, rock. Każdy ich koncert to 
 potężna dawka klezmersko-bałkańskich dźwięków. \nZespół\, oprócz
  występów na największych festiwalach w całej Polsce\, prezentował si
 ę również za granicą\, między innymi w Belgii\, Niemczech\, na Węgrz
 ech\, był też zapraszany na festiwale w USA czy Finlandii. Grupa wielokr
 otnie pojawiała się w radiu i telewizji. Zagrali już blisko 350 koncert
 ów na terenie całego kraju i Europy. Na specjalne zamówienie pięciu og
 ólnopolskich rozgłośni radiowych zespół NeoKlez stworzył muzykę do 
 serialu audio „Filip" Leopolda Tyrmanda w reżyserii Krzysztofa Czeczota
 . W superprodukcji udział wzięli najwybitniejsi aktorzy polskiej sceny: 
 Paweł Królikowski\, Antoni Pawlicki\, Włodzimierz Press\, Jacek Braciak
 \, Cezary Żak\, Izabela Kuna\, Olga Bołądź\, Antoni Królikowski\, Ann
 a Próchniak\, Józef Pawłowski i wielu innych. \n\n„Votum Separatum" t
 o tytuł najnowszej płyty zespołu\, która będzie miała premierę w lu
 tym 2020 roku. Krążek zawiera odrębną od poprzednich propozycję muzyc
 zną i jest dowodem mocnej zmiany kursu w rozwoju grupy\, który trwa już
  dziesięć lat. Przez ten czas zespół współpracował z czołowymi art
 ystami świata muzyki i filmu. Dzięki tym doświadczeniom twórczość Ne
 oKlez stale ewoluowała\, a dziś śmiało można powiedzieć\, że zespó
 ł stworzył autorską definicję muzyki\, w której nie ma żadnych barie
 r. Znana z poprzednich albumów folkowa baza w dalszym ciągu jest mocno w
 yczuwalna\, choć została urozmaicona wieloma współczesnymi akcentami o
 raz głosami takich wokalistów jak Czesław Mozil\, Włodek „Paprodziad
 " Dembowski\, czy Jarecki. \n\n\n29.02.2020 godz.20.00 klub muzyczny Dom K
 ultury\, ul. Krakowskie Przedmieście 19
ATTACH;FMTTYPE=image/jpeg:https://night4u.pl/wp-content/uploads/2020/02/14
 1089_image_84975422_3084410378237868_7656016252955000832_o.jpg
CATEGORIES:lubelskie
LOCATION:Dom Kultury\, ul. Krakowskie Przedmieście 19\, Lublin\, 20-002\, 
 Poland
GEO:51.24787;22.56342
X-APPLE-STRUCTURED-LOCATION;VALUE=URI;X-ADDRESS=ul. Krakowskie Przedmieści
 e 19\, Lublin\, 20-002\, Poland;X-APPLE-RADIUS=100;X-TITLE=Dom Kultury:geo
 :51.24787,22.56342
END:VEVENT
BEGIN:VTIMEZONE
TZID:Europe/Warsaw
X-LIC-LOCATION:Europe/Warsaw
BEGIN:STANDARD
DTSTART:20191027T020000
TZOFFSETFROM:+0200
TZOFFSETTO:+0100
TZNAME:CET
END:STANDARD
END:VTIMEZONE
END:VCALENDAR