BEGIN:VCALENDAR
VERSION:2.0
PRODID:-//wp-events-plugin.com//7.2.3.1//EN
TZID:Europe/Warsaw
X-WR-TIMEZONE:Europe/Warsaw
BEGIN:VEVENT
UID:45256@night4u.pl
DTSTART;TZID=Europe/Warsaw:20200213T200000
DTEND;TZID=Europe/Warsaw:20200213T223000
DTSTAMP:20200213T184745Z
URL:https://night4u.pl/wydarzenia/neon-burlesque-valentines-date/
SUMMARY:Neon Burlesque - Valentine's Date
DESCRIPTION:Neo Burlesquowe randkowanie podczas Show wokalno tanecznego? A 
 może krótki instruktaż podrywania\, tudzież wskazówki dotyczące elem
 entów kobiecej garderoby i psyche?\nPiękne artystki\, wokal na żywo\, t
 aniec i mnóstwo sexpeallu w humorystycznej odsłonie.\n\nZobaczcie wysmak
 owane show w niepowtarzalny kokieteryjnym klimacie. Mix burleski od High H
 eels przez Sexy Dance\, aż po Chair Dance. Nasze wydarzenia wyróżnia ab
 solutnie zjawiskowy i kokieteryjny wokal na żywo i konferansjerka prowadz
 ona przez Malewska Kinga\nShow podzielone jest na 3 części pomiędzy kt
 órymi możecie uraczyć się najlepszymi kocktailami u BARdzo bardzo dobr
 ego barmana.\n\n13 go lutego pojawią się wokalne interpretacje najznamie
 nitszych miłosnych numerów. Striptiz z kobiecym Joe Cockerem\, czy samba
  przed rozstaniem dla singli.\nSpotkajmy się na Valentynkowej randce.\nJu
 ż dziś kupcie bilety i sprawdźcie!\n\n\nBARdzo\, bardzo wyjątkowa inic
 jatywa!\n\nCO: Neon Burlesque Winter Edition\nGDZIE: BARdzo bardzo\, Nowog
 rodzka 11\, Warszawa\nKIEDY: 13 luty\, 4 marzec godz. 20.00\n\nBILETY: 50 
 przedsprzedaż\, 60 na miejscu \n\nbilety:https://goingapp.pl/evt/2203370/
 neon-burlesque-valentines-date
ATTACH;FMTTYPE=image/jpeg:https://night4u.pl/wp-content/uploads/2020/02/14
 6841_image_82138539_1723264544475792_3457494023839678464_o-3.jpg
CATEGORIES:mazowieckie
LOCATION:Klub Hydrozagadka\, 11 listopada 22\, 03-436 Warszawa\, Poland\, P
 raga\, 03-436\, Poland
GEO:52.259283;21.036925
X-APPLE-STRUCTURED-LOCATION;VALUE=URI;X-ADDRESS=11 listopada 22\, 03-436 Wa
 rszawa\, Poland\, Praga\, 03-436\, Poland;X-APPLE-RADIUS=100;X-TITLE=Klub 
 Hydrozagadka:geo:52.259283,21.036925
END:VEVENT
BEGIN:VTIMEZONE
TZID:Europe/Warsaw
X-LIC-LOCATION:Europe/Warsaw
BEGIN:STANDARD
DTSTART:20191027T020000
TZOFFSETFROM:+0200
TZOFFSETTO:+0100
TZNAME:CET
END:STANDARD
END:VTIMEZONE
END:VCALENDAR