BEGIN:VCALENDAR
VERSION:2.0
PRODID:-//wp-events-plugin.com//7.2.3.1//EN
TZID:Europe/Warsaw
X-WR-TIMEZONE:Europe/Warsaw
BEGIN:VEVENT
UID:46781@night4u.pl
DTSTART;TZID=Europe/Warsaw:20200208T220000
DTEND;TZID=Europe/Warsaw:20200209T050000
DTSTAMP:20200208T085047Z
URL:https://night4u.pl/wydarzenia/new-face-of-karova-club/
SUMMARY:New Face of Karova Club
DESCRIPTION:Każde wyjście do klubu wiążę się z faktem poznania nowych
  osób. W ten weekend zapraszamy do Karovej abyście mogli poznać nasze n
 owe twarze w lokalu\, które zadbają o to aby każda impreza w tym miejsc
 u była tą wyjątkową. Przyjdź\, poznajmy się‼️‼️\n\n✔️Sta
 rt 22:00✔️\n✔️Do 23:00 – wejście free✔️\n✔️Po 23:00 - 2
 0 PLN✔\n\n✔️*WEJDŻ ZA DARMO‼️\nUdostępnij wydarzenie i wejdź 
 za free\nZaproś 200 znajomych na wydarzenie\, wrzuć screen na tablice wy
 darzenia. Udostępnij i wpadaj DARMOWA WEJŚCIÓWKA jest twoja.\nIlość d
 armowych wejść jest ograniczona.\n\n👗👔Dress code: smart casual.\nW
 yglądaj dobrze\, czuj się komfortowo\, spraw by inni mieli co podziwiać
  \;)\n\nNOWA KAROVA WKRÓTCE ! &gt\;&gt\;NOWI LUDZIE ! &gt\;&gt\;NOWE IMPR
 EZY ! &gt\;&gt\;NOWE CYKLICZNE WYDARZENIA ! &gt\;&gt\;NOWE TWARZE !!\n\n
 ✔️NEW KAROVA - idealne miejsce na twoje spotkanie‼️\nZe względu n
 a swój rozkład jest idealnym miejscem na zorganizowanie imprezy zamknię
 tej (urodziny\, wieczory panieńskie\, wieczory kawalerskie\, imprezy firm
 owe\, itp). \nW każdy piątek i sobotę czekamy na Was od godziny 22:00 /
  Nie czekaj ze swoimi pomysłami‼️ Zadzwoń do nas i porozmawiajmy o T
 woich planach na imprezę - 690-008-927\n\n________________\nRezerwacja:\n
 biuro@karova.club\nTel.690-008-927\n--------------------------------------
 --------------------------------------------------------------------------
 --------------\nANG\nEvery time you go to the club\, You meet new people.T
 his weekend we invite you to Karova so that you can meet our new faces in 
 the premises make sure that every event in this place is unique one. Come\
 , let’s meet!!\n\n✔️Start 22:00✔️\n✔️Until 23:00 – entry f
 ree✔️\n✔️After 23:00 - 20 PLN✔\n\n✔️ENTER FOR FREE\nShare an
 d enter for free /\nInvite 200 friends to the event\, throw a screenshot o
 f the event. Share and come over. FREE ENTRY TICKET is yours. \n\nThe numb
 er of free entries is limited.\n\n👗👔Dress code: smart casual.\nLook 
 good\, feel comfortable\, make others admire\;)\n\nNEW KAROVA COMING SOON 
 ! &gt\;&gt\;NEW POEPLE ! &gt\;&gt\;NEW PARTY ! &gt\;&gt\;NEW CYCLICAL EVEN
 TS ‼️&gt\;&gt\;NEW FACES ‼️\n\n✔️NEW KAROVA – perfect place 
 for your meeting!!\nDue to its distribution\, it is an ideal place to orga
 nize a closed event (birthday\, hen parties\, stag parties\, corporate eve
 nts\, etc.)\nEvery Friday and Saturday we are waiting for you from 22:00 /
  Do ton wait with your ideas!! Call us and talk about your plans for the p
 arty – 690-008-927\n\n________________\nReservation:\nbiuro@karova.club\
 nTel.690-008-927
ATTACH;FMTTYPE=image/jpeg:https://night4u.pl/wp-content/uploads/2020/02/15
 3903_image_84395429_1109739766044707_4577841766329221120_o.jpg
CATEGORIES:mazowieckie
LOCATION:Karova\, Karowa 31\, Warsaw\, 00-324\, Poland
GEO:52.24257;21.018391
X-APPLE-STRUCTURED-LOCATION;VALUE=URI;X-ADDRESS=Karowa 31\, Warsaw\, 00-324
 \, Poland;X-APPLE-RADIUS=100;X-TITLE=Karova:geo:52.24257,21.018391
END:VEVENT
BEGIN:VTIMEZONE
TZID:Europe/Warsaw
X-LIC-LOCATION:Europe/Warsaw
BEGIN:STANDARD
DTSTART:20191027T020000
TZOFFSETFROM:+0200
TZOFFSETTO:+0100
TZNAME:CET
END:STANDARD
END:VTIMEZONE
END:VCALENDAR