BEGIN:VCALENDAR
VERSION:2.0
PRODID:-//wp-events-plugin.com//7.2.3.1//EN
TZID:Europe/Warsaw
X-WR-TIMEZONE:Europe/Warsaw
BEGIN:VEVENT
UID:51804@night4u.pl
DTSTART;TZID=Europe/Warsaw:20241231T210000
DTEND;TZID=Europe/Warsaw:20250101T000000
DTSTAMP:20241220T205347Z
URL:https://night4u.pl/wydarzenia/new-years-eve-2025/
SUMMARY:NEW YEARS EVE 2025
DESCRIPTION:Sylwester tuż tuż! 🍾\nWznieśmy toast za piękne wspomnien
 ia z 2024 roku i za wspaniałe plany na nadchodzący rok!\n⭐️ SCENA 
 ⭐️\nZa konsolą TOM FORESTER &amp\; DJ YONKY podsumują dla Was najwi
 ększe przeboje 2024 roku i sprawią\, że w 2025 rok wkroczycie pełnią 
 energii. Spodziewajcie się najlepszych hitów na największym klubowym pa
 rkiecie w Warszawie oraz magicznego tanecznego odliczania do nowego 2025 r
 oku!\nPonadto zapewniamy świetlny pokaz\, kilogramy konfetti i tego czego
  nie mogło by zabraknąć tej nocy - hektolitry najlepszych alkoholi!\nSt
 art 21:00.\n⭐️ DRESS CODE ⭐️\nGlamour\n⭐️ BILETY ⭐️\n→ S
 PECIAL: Wejście do klubu - 100 zł/os.\n→ PREMIUM: Wejście do klubu\, 
 miejsce siedzące i półmisek przekąsek oraz butelka wina musującego dl
 a każdych 5-6 osób – 200 zł/os.\n→ VIP: Wejście do klubu\, miejsce
  siedzące w strefie VIP i półmisek przekąsek oraz butelka Moët &amp\;
  Chandon dla każdych 5-6 osób - 350 zł/os.\nkom. +48 696 701 293\nmail:
  biuro@bankclub.pl\nBANK CLUB\nul. Mazowiecka 14\nWARSZAWA\n\nBilety dost
 ępne w poniższym linku:\n\nhttps://emenago.com/i/bankclub/event/92274\n\
 n-------------------------------------------------------------------------
 ------\n\nNew Year's Eve is just around the corner!\nLet's raise a toast t
 o the beautiful memories of 2024 and great plans for the coming year!\n\n
 ⭐️ THE SCENE ⭐️\nBehind the console\, TOM FORESTER &amp\; DJ YONKY
  will summarize the greatest hits of 2024 for you and make you enter 2025 
 full of energy. Expect the best hits on the biggest club floor in Warsaw!\
 nIn addition\, we provide a light show\, kilograms of confetti and hectoli
 ters of the best spirits.\nStart 21:00.\n⭐️ DRESS CODE ⭐️\nGlamour
 \n⭐️ TICKETS ⭐️\n→ SPECIAL: Entrance to the club - PLN 100 / per
 son\n→ PREMIUM: Entrance to the club\, a seat and a plate of snacks and 
 a bottle of sparkling wine for each 5-6 people - PLN 200 / person.\n→ VI
 P: Entrance to the club\, a seat in the VIP area and a plate of snacks and
  a bottle of Moët &amp\; Chandon for each 5-6 people - PLN 350 / person.\
 nmobile: +48 696 701 293\ne-mail: biuro@bankclub.pl\nBANK CLUB\nst. Mazowi
 ecka 14\nWARSAW\n\nTickets available from the link below:\n\nhttps://emena
 go.com/i/bankclub/event/92274
ATTACH;FMTTYPE=image/jpeg:https://night4u.pl/wp-content/uploads/2024/12/NE
 W-YEARS-EVE-2025.jpg
CATEGORIES:mazowieckie
LOCATION:Mazowiecka 14\, 00-048 Warsaw\, Poland\, Mazowiecka 14\, 00-048 Wa
 rsaw\, Poland\, 
X-APPLE-STRUCTURED-LOCATION;VALUE=URI;X-ADDRESS=Mazowiecka 14\, 00-048 Wars
 aw\, Poland\, ;X-APPLE-RADIUS=100;X-TITLE=Mazowiecka 14\, 00-048 Warsaw\, 
 Poland:geo:0,0
END:VEVENT
BEGIN:VTIMEZONE
TZID:Europe/Warsaw
X-LIC-LOCATION:Europe/Warsaw
BEGIN:STANDARD
DTSTART:20241027T020000
TZOFFSETFROM:+0200
TZOFFSETTO:+0100
TZNAME:CET
END:STANDARD
END:VTIMEZONE
END:VCALENDAR