BEGIN:VCALENDAR
VERSION:2.0
PRODID:-//wp-events-plugin.com//7.2.3.1//EN
TZID:Europe/Warsaw
X-WR-TIMEZONE:Europe/Warsaw
BEGIN:VEVENT
UID:34350@night4u.pl
DTSTART;TZID=Europe/Warsaw:20191108T220000
DTEND;TZID=Europe/Warsaw:20191109T030000
DTSTAMP:20191107T091816Z
URL:https://night4u.pl/wydarzenia/newonce-party-feat-niko-p-borucci-at-sq-
 klub/
SUMMARY:newonce.party feat. Niko P &amp\; Borucci at SQ klub
DESCRIPTION:No i znowu to robimy i pewnie znowu będzie super\, aż do tej 
 bolesnej pobudki dnia następnego. Skupmy się jednak na rzeczach przyjemn
 ych\, a imprezę rozkręconą przez Niko P i Borucciego (przy naszym skrom
 nym wsparciu – o pewnej godzinie jest nas za didżejką jakby więcej) s
 pokojnie możemy tym mianem określić. Tradycyjnie przywieziemy Wam róż
 ne fajne rzeczy\, a Wy... po prostu bądźcie. 5!\n\nline-up: \nNiko P\nBo
 rucci\n\nstart 22:00\n\nbilety: 20 zl do 23:00\, 25 zl po 23:00\, dziewczy
 ny wejscie free do 23:00
ATTACH;FMTTYPE=image/jpeg:https://night4u.pl/wp-content/uploads/2019/10/88
 417_image_74335774_1515205848630158_1901408478937743360_o.jpg
CATEGORIES:wielkopolskie
LOCATION:SQ klub\, Poznan\, Poland
GEO:52.40174;16.926687
X-APPLE-STRUCTURED-LOCATION;VALUE=URI;X-ADDRESS=Poznan\, Poland;X-APPLE-RAD
 IUS=100;X-TITLE=SQ klub:geo:52.40174,16.926687
END:VEVENT
BEGIN:VTIMEZONE
TZID:Europe/Warsaw
X-LIC-LOCATION:Europe/Warsaw
BEGIN:STANDARD
DTSTART:20191027T020000
TZOFFSETFROM:+0200
TZOFFSETTO:+0100
TZNAME:CET
END:STANDARD
END:VTIMEZONE
END:VCALENDAR