BEGIN:VCALENDAR
VERSION:2.0
PRODID:-//wp-events-plugin.com//7.2.3.1//EN
TZID:Europe/Warsaw
X-WR-TIMEZONE:Europe/Warsaw
BEGIN:VEVENT
UID:2948@night4u.pl
DTSTART;TZID=Europe/Warsaw:20190112T210000
DTEND;TZID=Europe/Warsaw:20190113T050000
DTSTAMP:20190108T162522Z
URL:https://night4u.pl/wydarzenia/nh-gdynia-dj-pz-novy-lista-fb-free-do-22
 -00/
SUMMARY:NH Gdynia DJ PZ & NOVY - Lista FB free do 22.00
DESCRIPTION:Plan na sobotni wieczór - impreza w #NHGdynia. Sprawdź jak bi
 je imprezowe serce miasta!\n\nMuzyka:\nDJ PZ\nDJ NOVY\n\nWstęp płatny:  
 \n                        - lista fb do 22:00 wstęp wolny\n              
              (listę zamykamy o 21:00)\n                        - standard
 owy bilet wstępu 20 zł (upoważnia do \n                          jednor
 azowego wstępu na imprezę\, \n                          regulamin dostę
 pny przy wejściu\n                        - karty klubowe wstęp wolny\n\
 n*Wstęp "21+"\, w razie wątpliwości selekcjoner ma prawo poprosić o do
 kument potwierdzający wiek.\n** Strój wieczorowy\, modny\, klubowy\, nie
 koniecznie galowy\, zdecydowanie nie sportowy. Wyglądaj dobrze\, czuj si
 ę komfortowo\, spraw by inni mieli co podziwiać\;)    \n\nRezerwacje: \n
                      tel. +48 602-213-323 lub wiadomość prywatna  \n    
                  *Regulamin i zasady rezerwacji - kliknij link: \n        
              https://tinyurl.com/zasadyrezerwacji
ATTACH;FMTTYPE=image/jpeg:https://night4u.pl/wp-content/uploads/2019/01/10
 036_image_49748510_494572014367739_3420959511601479680_n.jpg
CATEGORIES:pomorskie
LOCATION:Nowy Harem Gdynia\, 3 Maja 28\, Gdynia\, 81-364\, Poland
GEO:54.519089;18.535287
X-APPLE-STRUCTURED-LOCATION;VALUE=URI;X-ADDRESS=3 Maja 28\, Gdynia\, 81-364
 \, Poland;X-APPLE-RADIUS=100;X-TITLE=Nowy Harem Gdynia:geo:54.519089,18.53
 5287
END:VEVENT
BEGIN:VTIMEZONE
TZID:Europe/Warsaw
X-LIC-LOCATION:Europe/Warsaw
BEGIN:STANDARD
DTSTART:20181028T020000
TZOFFSETFROM:+0200
TZOFFSETTO:+0100
TZNAME:CET
END:STANDARD
END:VTIMEZONE
END:VCALENDAR