BEGIN:VCALENDAR
VERSION:2.0
PRODID:-//wp-events-plugin.com//7.2.3.1//EN
TZID:Europe/Warsaw
X-WR-TIMEZONE:Europe/Warsaw
BEGIN:VEVENT
UID:9418@night4u.pl
DTSTART;TZID=Europe/Warsaw:20191013T183000
DTEND;TZID=Europe/Warsaw:20191013T220000
DTSTAMP:20190314T205934Z
URL:https://night4u.pl/wydarzenia/nick-murphy-fka-chet-faker-13-10-2019-wa
 rszawa-stodola/
SUMMARY:Nick Murphy (fka Chet Faker): 13.10.2019 Warszawa\, Stodoła
DESCRIPTION:Agencja Go Ahead zaprasza na koncert Nicka Murphy’ego (fka Ch
 et Faker)! Australijczyk wystąpi 13 października w warszawskiej Stodole.
 \n\nSprzedaż biletów rozpocznie się w piątek 15 marca o godzinie 10:00
 .\n\nNick Murphy wraca do Wielkiej Brytanii i Europy w październiku tego 
 roku\, aby promować swój nowy album – „Run Fast Sleep Naked”. Pły
 ta ukaże się 26 kwietnia\, a 4 marca poznaliśmy pierwszy singiel – 
 „Sanity”. \n\nAby przygotować swój drugi album\, Nick Murphy spędzi
 ł 4 lata podróżując po świecie wraz z mikrofonem w walizce\, nagrywaj
 ąc partie wokalne w miejscach\, które najbardziej go zainspirowały. W t
 ym czasie\, pochodzący z Melbourne wokalista\, producent i multiinstrumen
 talista\, znany wcześniej jako Chet Faker\, zanurzył się w głębokiej 
 autoanalizie. „Run Fast Sleep Naked” to płyta\, w której Nick nieust
 annie szuka i zadaje pytania. \n\nNajnowszy album to następca dobrze przy
 jętych wydawnictw „Missing Link” (EP wydana w 2017 roku\, już jako N
 ick Murphy) i „Built on Glass” – pierwszej długogrającej płyty wy
 danej w 2014 jako Chet Faker. Mimo że wokale na „Run Fast Sleep Naked
 ” były nagrywane w różnych miejscach na świecie\, w tym w salonie ba
 bci Nicka\, w studiu w Tokio\, na wakacjach spędzonych z rodziną w Nowej
  Zelandii czy w swoim mieszkaniu w Nowym Jorku – muzyka była w większo
 ści nagrana w Figure 8 w Brooklynie. Aby nadać ostateczny kształt\, Mur
 phy zaangażował 20 muzyków sesyjnych i orkiestrę\, osadzając każdą 
 piosenkę w nieoczekiwanych teksturach i szalenie zróżnicowanych tonach.
  \n\nNick Murphy nawiązał współpracę z fundacją PLUS 1\, w związku 
 z czym\, 5 zł z każdego sprzedanego biletu przeznaczone jest dla organiz
 acji zapewniających godność i równość społecznościom\, które tego
  potrzebują. \n\nPrzypominamy\, że kupując bilety od osób umieszczają
 cych oferty odsprzedaży na Facebooku możecie Państwo zostać oszukani 
 – ryzykujecie w ten sposób kupno fałszywych wejściówek\, które nie 
 umożliwią wejścia na koncert. Prosimy o kupowanie biletów wyłącznie 
 w autoryzowanych punktach sprzedaży! Autoryzowanymi punktami sprzedaży n
 ie są m.in. Viagogo\, Ticketswap\, Allegro\, OLX. \n\nData: 2019-10-13 (n
 iedziela)\nMiasto: Warszawa\nMiejsce: Stodoła\nGodziny: 18:30 - wejście 
 // 20:00 - start koncertu\nCena biletów: \nmiejsca stojące - 130 zł (pr
 zedsprzedaż) // 145 zł (w dniu koncertu)\;\nbalkon (miejsca siedzące nu
 merowane) - 145 zł\n5 zł z każdego biletu przeznaczone jest dla fundacj
 i Plus 1.\nMiejsca sprzedaży: www.ticketmaster.pl\, www.ebilet.pl\, www.b
 iletomat.pl\, www.empikbilety.pl\, www.stodola.pl oraz sklepy sieci Empik 
 i Media Markt. Bilety są również dostępne w kasie Klubu Stodoła.
ATTACH;FMTTYPE=image/jpeg:https://night4u.pl/wp-content/uploads/2019/03/25
 435_image_53509509_10161659054585486_4560115598780006400_o.jpg
CATEGORIES:mazowieckie
LOCATION:klub Stodoła\, \, 
X-APPLE-STRUCTURED-LOCATION;VALUE=URI;X-ADDRESS=\, ;X-APPLE-RADIUS=100;X-TI
 TLE=klub Stodoła:geo:0,0
END:VEVENT
BEGIN:VTIMEZONE
TZID:Europe/Warsaw
X-LIC-LOCATION:Europe/Warsaw
BEGIN:DAYLIGHT
DTSTART:20190331T030000
TZOFFSETFROM:+0100
TZOFFSETTO:+0200
TZNAME:CEST
END:DAYLIGHT
END:VTIMEZONE
END:VCALENDAR