BEGIN:VCALENDAR
VERSION:2.0
PRODID:-//wp-events-plugin.com//7.2.3.1//EN
TZID:Europe/Warsaw
X-WR-TIMEZONE:Europe/Warsaw
BEGIN:VEVENT
UID:41959@night4u.pl
DTSTART;TZID=Europe/Warsaw:20200118T220000
DTEND;TZID=Europe/Warsaw:20200119T060000
DTSTAMP:20200331T192116Z
URL:https://night4u.pl/wydarzenia/nick-sinckler-lista-free-do-2300/
SUMMARY:NICK Sinckler // Lista Free Do 23:00
DESCRIPTION:LISTA FB WCHODZI FREE DO 23:00! \nWYSTARCZY KLIKNĄĆ "WEZMĘ U
 DZIAŁ"\nLISTĘ ZAMYKAMY O 19:00!\n\nGOŚCIMY ZACNEGO WOKALISTĘ &lt\;3 \n
 Nick Sinckler Fan Page\n\nAmerykański wokalista. Jego artystyczna przygod
 a rozpoczęła się w Nowym Jorku\, gdzie miał okazję współpracować z
 e znakomitymi muzykami reprezentującymi gatunek soul &amp\;r’n’b. Wś
 ród nich znalazły się takie osobowości jak: Ari Gold\, Paradise czy Ad
 am Joseph. \nNick w poszukiwaniu nowych\, muzycznych brzmień\, po kilkule
 tniej podróży po Europie w 2007 r. przyjeżdża do Polski. Rodzimej publ
 iczności daje się poznać uczestnicząc w znanym\, telewizyjnym programi
 e Fabryka Gwiazd\, gdzie dociera do finału i zyskuje rzeszę Fanów. Muzy
 czny talent\, charyzma oraz artystyczna wszechstronność\, pozwalają mu 
 na dobre zaistnieć na polskim rynku muzycznym. \nTuż po programie\, Nick
  wydaje singiel Feel This Love\, który szturmem zdobywa listy przebojów.
  To jego głos słyszymy na intro w znanym programie muzycznym The Voice o
 f Poland. Nick tworzy muzykę oraz współuczestniczy w wielu artystycznyc
 h projektach\, współpracując z polskimi muzykami: Kayah\, Natalia Kukul
 ska\, T-Love\, Blue Cafe\, Wet Fingers\, DJ Inox\, MacLaro. Twórcza praca
  wspólnie z DJ Inox (DJ Inoxfeat. Nick Sinckler) owocuje muzycznymi hitam
 i: I Like You\, LightUp The Night czy I’m on my way.\n8.04.2018 r. odby
 ła się premiera nowego albumu Nicka o nazwie 11x11. Krążek jest w cał
 ości w języku polskim\, co było dużym wyzwaniem dla artysty. Na płyci
 e gościnnie zaśpiewała m.in. Natalia Kukulska. Z płyty zostały wydane
  trzy utwory Życie\, Puste Sny oraz Cudowny Dzień. Nick wspólnie z zesp
 ołem tworzy projekty Tribute to Michael Jackson oraz Tribute to George Mi
 chael. \nOd września 2018 roku Nick zasiada w jury Polskiej edycji telewi
 zyjnego programu Śpiewajmy razem\, All Together Now. Aktualnie pracuje na
 d wydaniem kolejnego singla z płyty 11x11.\n\n===========================
 =========\nZAGRAJĄ: \n====================================\nHEAVEN: Bart 
 Wave\n====================================\nPURGATORY / LATINO: Mariusz Sz
 umczyk aka. Mauro\n====================================\nABYS / HOUSE: Dj 
 Meggz\n====================================\nHELL: BPmusic\n==============
 ======================\nSTART: \n\n22:00 \n\nWstęp 20 zł\n\nLISTA FB FRE
 E DO 23:00 / LISTĘ ZAMYKAMY O 19:00
ATTACH;FMTTYPE=image/jpeg:https://night4u.pl/wp-content/uploads/2020/01/13
 2351_image_82331680_2510981075856210_4473682852281581568_o.jpg
CATEGORIES:dolnośląskie
LOCATION:HAH Wrocław\, ul. Oławska 11\, Wroclaw\, 50-105\, Poland
GEO:51.10848;17.035085
X-APPLE-STRUCTURED-LOCATION;VALUE=URI;X-ADDRESS=ul. Oławska 11\, Wroclaw\,
  50-105\, Poland;X-APPLE-RADIUS=100;X-TITLE=HAH Wrocław:geo:51.10848,17.0
 35085
END:VEVENT
BEGIN:VTIMEZONE
TZID:Europe/Warsaw
X-LIC-LOCATION:Europe/Warsaw
BEGIN:STANDARD
DTSTART:20191027T020000
TZOFFSETFROM:+0200
TZOFFSETTO:+0100
TZNAME:CET
END:STANDARD
END:VTIMEZONE
END:VCALENDAR