BEGIN:VCALENDAR
VERSION:2.0
PRODID:-//wp-events-plugin.com//7.2.3.1//EN
TZID:Europe/Warsaw
X-WR-TIMEZONE:Europe/Warsaw
BEGIN:VEVENT
UID:36335@night4u.pl
DTSTART;TZID=Europe/Warsaw:20191120T230000
DTEND;TZID=Europe/Warsaw:20191121T060000
DTSTAMP:20191119T104739Z
URL:https://night4u.pl/wydarzenia/nie-boj-sie-elektroniki-pres-kontakt/
SUMMARY:Nie Bój się Elektroniki pres. Kontakt
DESCRIPTION:Czy zadałeś/aś sobie kiedyś pytanie: Jak być bliżej??? Sz
 czególnie w tym okresie\, gdzie dzień jest krótszy od nocy\, a Twój le
 ń patrząc na pogodę za oknem mówi „nigdzie nie idziesz!” \nNo wła
 śnie\, jak? Tak się składa\, że NBSE ma na to rozwiązanie :)\n\nZebra
 liśmy się jakiś czas temu i postanowiliśmy ruszyć z cotygodniową ser
 ią podcastów\, którą pięknie nazwaliśmy „KONTAKT” - właśnie po
  to\, byśmy mogli się z Wami częściej kontaktować za pomocą muzyki. 
 Jednak odpowiedzmy sobie szczerze. Czym jest „KONTAKT" bez fizycznej obe
 cności? \nMoże i na krótką metę się to sprawdzi\, ale po chwili każ
 dy pragnie więcej. Dlatego poza cotygodniowymi podcastami\, które będą
  się pojawiały na naszym Soundcloud\, raz w miesiącu przenosimy nasz cy
 kl w mury tego jedynego\, słusznego klubu. Doskonale wiemy\, że to wła
 śnie tu\, KONTAKT'ować się z Wami będziemy mogli najlepiej i najgoręc
 ej. \n\nLink do naszych podcastów:\nhttps://soundcloud.com/user-235448392
 \n\nA na środowy KONTAKT poza\, \nekpią Nie Bój Się Elektroniki NBSE\,
  Kevs\, zaprosiliśmy jeszcze jednego łotra jakim jest Disco Teddy
ATTACH;FMTTYPE=image/jpeg:https://night4u.pl/wp-content/uploads/2019/11/98
 290_image_75003951_3268778853194738_7228354702751039488_n.jpg
CATEGORIES:mazowieckie
LOCATION:Luzztro\, Aleje Jerozolimskie 6\, Warsaw\, 00-374\, Poland
GEO:52.232779;21.023655
X-APPLE-STRUCTURED-LOCATION;VALUE=URI;X-ADDRESS=Aleje Jerozolimskie 6\, War
 saw\, 00-374\, Poland;X-APPLE-RADIUS=100;X-TITLE=Luzztro:geo:52.232779,21.
 023655
END:VEVENT
BEGIN:VTIMEZONE
TZID:Europe/Warsaw
X-LIC-LOCATION:Europe/Warsaw
BEGIN:STANDARD
DTSTART:20191027T020000
TZOFFSETFROM:+0200
TZOFFSETTO:+0100
TZNAME:CET
END:STANDARD
END:VTIMEZONE
END:VCALENDAR