BEGIN:VCALENDAR
VERSION:2.0
PRODID:-//wp-events-plugin.com//7.2.3.1//EN
TZID:Europe/Warsaw
X-WR-TIMEZONE:Europe/Warsaw
BEGIN:VEVENT
UID:38592@night4u.pl
DTSTART;TZID=Europe/Warsaw:20191215T180000
DTEND;TZID=Europe/Warsaw:20191215T200000
DTSTAMP:20191215T001540Z
URL:https://night4u.pl/wydarzenia/nie-ma-jak-klasyka-balticalians-i-george
 -tchitchinadze/
SUMMARY:Nie ma jak klasyka! - BalticAlians i George Tchitchinadze
DESCRIPTION:Nieszablonowość – to drugie imię orkiestry kameralnej Balt
 icAlians. Zespół jak ognia unika muzycznych schematów\, banalność ods
 yła do lamusa\, a melomanów zaraża tylko optymizmem. Tak w Gdańsku\, j
 ak i w Elblągu – już 15 grudnia orkiestra wystąpi w Sali Kameralnej Z
 espołu Państwowych Szkół Muzycznych. \n\nNa jej czele stanie dyrygent\
 , którego nazwisko pozostaje słynne po obu stronach Uralu. George Tchitc
 hinadze – symbol gruzińsko-polskiej przyjaźni muzycznej\, któremu sma
 ku\, wyobraźni i charyzmy mogłaby pozazdrościć niejedna orkiestra symf
 oniczna. Repertuar? Klasycy nad klasykami - Czajkowski\, Mozart i Dworzak!
 \n\nEmocje gwarantowane\, tym bardziej\, że poznamy nie jeden\, a wiele p
 rowadzących głosów...\n\nhttps://www.facebook.com/balticalians/\n\n15.1
 2.2019\, niedziela\, 18:00\nSala Kameralna Zespołu Państwowych  Szkół 
 Muzycznych w Elblągu\n\nWykonawcy:\nBalticAlians\nGeorge Tchitchinadze - 
 dyrygent\n\nW programie m.in. \nW. A. Mozart - Divertimento KV 136\nE. Elg
 ar - Serenada smyczkowa e-moll\, op. 20\nP. Czajkowski - Melodrama „Snow
  Maiden"\,Op. 12\nA. Dworzak - Serenada smyczkowa E-dur\, op. 22\n\nWstęp
  wolny
ATTACH;FMTTYPE=image/jpeg:https://night4u.pl/wp-content/uploads/2019/12/11
 0376_image_77362024_2722571264471032_9038902186469228544_o.jpg
CATEGORIES:warmińsko-mazurskie
LOCATION:Elbląska Orkiestra Kameralna\, Stary Rynek 25\, Elblag\, 82-300\,
  Poland
GEO:50.289339;18.984375
X-APPLE-STRUCTURED-LOCATION;VALUE=URI;X-ADDRESS=Stary Rynek 25\, Elblag\, 8
 2-300\, Poland;X-APPLE-RADIUS=100;X-TITLE=Elbląska Orkiestra Kameralna:ge
 o:50.289339,18.984375
END:VEVENT
BEGIN:VTIMEZONE
TZID:Europe/Warsaw
X-LIC-LOCATION:Europe/Warsaw
BEGIN:STANDARD
DTSTART:20191027T020000
TZOFFSETFROM:+0200
TZOFFSETTO:+0100
TZNAME:CET
END:STANDARD
END:VTIMEZONE
END:VCALENDAR