BEGIN:VCALENDAR
VERSION:2.0
PRODID:-//wp-events-plugin.com//7.2.3.1//EN
TZID:Europe/Warsaw
X-WR-TIMEZONE:Europe/Warsaw
BEGIN:VEVENT
UID:35936@night4u.pl
DTSTART;TZID=Europe/Warsaw:20191115T210000
DTEND;TZID=Europe/Warsaw:20191116T040000
DTSTAMP:20191115T220131Z
URL:https://night4u.pl/wydarzenia/nie-poganiaj-mnie-bo-trace-oddech-2/
SUMMARY:Nie poganiaj mnie\, bo tracę oddech
DESCRIPTION:Na spokojnie | Nie poganiaj | Powolutku | Zaproś do tańca | N
 ajpierw jednak do baru | Napij się | Jeszcze raz | I jeszcze | Potem to j
 uż będzie wszystko jedno | Strać oddech nad ranem | \nMuzyka nasza | Po
 lska | Dobra | Zagraniczna też\nDolny poziom karaokemożesz też pośpiew
 aćalbo się pośmiać\nwejście | 10 PLN\ndresscode | modnie i swobodnie\
 nselekcja | dla tych co z oczu dobrze patrzy
ATTACH;FMTTYPE=image/jpeg:https://night4u.pl/wp-content/uploads/2019/11/96
 317_image_75424620_2916963778316653_3335678941619814400_n.jpg
CATEGORIES:lubelskie
LOCATION:Klub Towarzyski\, Krakowskie Przedmieście 32\, Lublin\, 20-002\, 
 Poland
GEO:51.24769;22.56263
X-APPLE-STRUCTURED-LOCATION;VALUE=URI;X-ADDRESS=Krakowskie Przedmieście 32
 \, Lublin\, 20-002\, Poland;X-APPLE-RADIUS=100;X-TITLE=Klub Towarzyski:geo
 :51.24769,22.56263
END:VEVENT
BEGIN:VTIMEZONE
TZID:Europe/Warsaw
X-LIC-LOCATION:Europe/Warsaw
BEGIN:STANDARD
DTSTART:20191027T020000
TZOFFSETFROM:+0200
TZOFFSETTO:+0100
TZNAME:CET
END:STANDARD
END:VTIMEZONE
END:VCALENDAR