BEGIN:VCALENDAR
VERSION:2.0
PRODID:-//wp-events-plugin.com//7.2.3.1//EN
TZID:Europe/Warsaw
X-WR-TIMEZONE:Europe/Warsaw
BEGIN:VEVENT
UID:33228@night4u.pl
DTSTART;TZID=Europe/Warsaw:20191227T220000
DTEND;TZID=Europe/Warsaw:20191228T050000
DTSTAMP:20191227T214950Z
URL:https://night4u.pl/wydarzenia/nie-ruszaj-to-na-swieta-jedz-jedz-bo-sie
 -zmarnuje/
SUMMARY:Nie ruszaj\, to na Święta! Jedz jedz\, bo się zmarnuje!
DESCRIPTION:Świąteczny klasyk!\n\nWiadomo\, przed świętami to nie możn
 a ruszać.\nA jak już się skończą to kilogramami musimy pochłaniać t
 o co zostało \;)\n\nNadmiar okołoświątecznych kalorii spalamy na parki
 ecie w Gorzko\, wsiadając do pociągu lub poloneza\, tudzież biorąc udz
 iał w oczepinach! \n\n♥♥♥♥♥♥♥♥♥♥♥♥♥♥♥♥♥
 ♥♥♥♥♥♥♥♥♥♥♥♥♥♥♥\n▬▬▬▬▬▬▬▬▬
 ▬▬▬▬▬▬▬▬▬▬▬▬▬▬▬▬▬▬▬\n\nWstęp:\n[18+
 ] - wyłącznie za okazaniem dokumentu tożsamości\n\n22:00-23:00 (Lista 
 Fb) - free\nPozostali - 10 PLN\n\n✮ Karty klubowe Gorzko Gorzko - darmow
 y wstęp przez całą noc (jedna/uniwersalna karta do wszystkich naszych l
 okali) ✮\n\nBez stroju formalnego\, ubierz się tak jak Ci wygodnie.\nRz
 ecz jasna nie zakładamy dresów\, bojówek\, itp. strojów\, które zosta
 wiamy sobie na wypad na domek za miasto.\n\n▬▬▬▬▬▬▬▬▬▬
 ▬▬▬▬▬▬▬▬▬▬▬▬▬▬▬▬▬▬\n\nGorzko Gorzko So
 pot to klub\, w którym w każdy Piątek i Sobotę odbywają się dyskotek
 i weselne.\nWodzirej\, fotobudka\, muzyka i zabawy weselne\, przekąski or
 az powitalny szampan.\nTo tylko część z atrakcji\, których u nas dośw
 iadczycie.\n\nHej wesele\, hej wesele tańcowało... !
ATTACH;FMTTYPE=image/jpeg:https://night4u.pl/wp-content/uploads/2019/10/82
 168_image_72572251_2420619431598701_684469017905201152_n.jpg
CATEGORIES:pomorskie
LOCATION:Gorzko Gorzko Sopot\, Armii Krajowej 111\, Sopot\, 81-824\, Poland
GEO:54.444101;18.55535
X-APPLE-STRUCTURED-LOCATION;VALUE=URI;X-ADDRESS=Armii Krajowej 111\, Sopot\
 , 81-824\, Poland;X-APPLE-RADIUS=100;X-TITLE=Gorzko Gorzko Sopot:geo:54.44
 4101,18.55535
END:VEVENT
BEGIN:VTIMEZONE
TZID:Europe/Warsaw
X-LIC-LOCATION:Europe/Warsaw
BEGIN:STANDARD
DTSTART:20191027T020000
TZOFFSETFROM:+0200
TZOFFSETTO:+0100
TZNAME:CET
END:STANDARD
END:VTIMEZONE
END:VCALENDAR