BEGIN:VCALENDAR
VERSION:2.0
PRODID:-//wp-events-plugin.com//7.2.3.1//EN
TZID:Europe/Warsaw
X-WR-TIMEZONE:Europe/Warsaw
BEGIN:VEVENT
UID:33223@night4u.pl
DTSTART;TZID=Europe/Warsaw:20191110T210000
DTEND;TZID=Europe/Warsaw:20191111T040000
DTSTAMP:20191110T200625Z
URL:https://night4u.pl/wydarzenia/niedziela-10-11-19-top-girls-w-milano-cl
 ub-backowice/
SUMMARY:NIEDZIELA 10.11.19 TOP GIRLS w Milano Club Baćkowice
DESCRIPTION:‼NIEDZIELA 10.11.19 impreza z cyklu "Jutro wolne"- (poniedzia
 łek  Święto Niepodległości-dzień wolny od pracy i szkoły )\n‼⚠
 ️JEDYNY w tym roku w regionie koncert zespołu\n💃💃💃 TOP GIRLS
 💋- ok.g.24.00\nZapraszamy serdecznie\nBawimy się na dwóch salach😊\
 nsala disco GREGOR\nsala klubowa DJ OXI
ATTACH;FMTTYPE=image/jpeg:https://night4u.pl/wp-content/uploads/2019/11/82
 148_image_74670738_1774158399383523_4992993459779403776_n.jpg
CATEGORIES:świętokrzyskie
END:VEVENT
BEGIN:VTIMEZONE
TZID:Europe/Warsaw
X-LIC-LOCATION:Europe/Warsaw
BEGIN:STANDARD
DTSTART:20191027T020000
TZOFFSETFROM:+0200
TZOFFSETTO:+0100
TZNAME:CET
END:STANDARD
END:VTIMEZONE
END:VCALENDAR