BEGIN:VCALENDAR
VERSION:2.0
PRODID:-//wp-events-plugin.com//7.2.3.1//EN
TZID:Europe/Warsaw
X-WR-TIMEZONE:Europe/Warsaw
BEGIN:VEVENT
UID:35048@night4u.pl
DTSTART;TZID=Europe/Warsaw:20191110T220000
DTEND;TZID=Europe/Warsaw:20191111T040000
DTSTAMP:20191107T084618Z
URL:https://night4u.pl/wydarzenia/niedziela-z-zespolem-exaited/
SUMMARY:NIedziela z  Zespołem Exaited
DESCRIPTION:11 listopada świętujemy Narodowe Święto Niepodległości\, 
 ale 10 listopada się bawimy. Zapraszamy na niezapomnianą imprezę z nasz
 ą gwiazdą Zespołem Exaited.
ATTACH;FMTTYPE=image/jpeg:https://night4u.pl/wp-content/uploads/2019/11/92
 147_image_74609462_3742201882463995_6687512797133144064_o.jpg
CATEGORIES:mazowieckie
LOCATION:Klub Bohema\, Kolejowa 3\, Siedlce\, 08-110\, Poland
GEO:52.15774;22.28255
X-APPLE-STRUCTURED-LOCATION;VALUE=URI;X-ADDRESS=Kolejowa 3\, Siedlce\, 08-1
 10\, Poland;X-APPLE-RADIUS=100;X-TITLE=Klub Bohema:geo:52.15774,22.28255
END:VEVENT
BEGIN:VTIMEZONE
TZID:Europe/Warsaw
X-LIC-LOCATION:Europe/Warsaw
BEGIN:STANDARD
DTSTART:20191027T020000
TZOFFSETFROM:+0200
TZOFFSETTO:+0100
TZNAME:CET
END:STANDARD
END:VTIMEZONE
END:VCALENDAR