BEGIN:VCALENDAR
VERSION:2.0
PRODID:-//wp-events-plugin.com//7.2.3.1//EN
TZID:Europe/Warsaw
X-WR-TIMEZONE:Europe/Warsaw
BEGIN:VEVENT
UID:26120@night4u.pl
DTSTART;TZID=Europe/Warsaw:20190825T210000
DTEND;TZID=Europe/Warsaw:20190826T033000
DTSTAMP:20190903T190238Z
URL:https://night4u.pl/wydarzenia/niedzielna-zabawa-w-a4-bis-cassio/
SUMMARY:Niedzielna Zabawa w A4 | Bis & Cassio
DESCRIPTION:Niedzielna Zabawa w Discoplex A4. Tej nocy wystąpi przed wami 
 na żywo zespół BIS oraz Dj  Cassio a na sali JAMIACA zagra DJ SANCHEZ!
ATTACH;FMTTYPE=image/jpeg:https://night4u.pl/wp-content/uploads/2019/09/61
 106_image_68585257_2991836067495099_1413121914867548160_n.jpg
CATEGORIES:opolskie
LOCATION:Discoplex A4\, Pietna\, Poland
GEO:50.451164;17.967762
X-APPLE-STRUCTURED-LOCATION;VALUE=URI;X-ADDRESS=Pietna\, Poland;X-APPLE-RAD
 IUS=100;X-TITLE=Discoplex A4:geo:50.451164,17.967762
END:VEVENT
BEGIN:VTIMEZONE
TZID:Europe/Warsaw
X-LIC-LOCATION:Europe/Warsaw
BEGIN:DAYLIGHT
DTSTART:20190331T030000
TZOFFSETFROM:+0100
TZOFFSETTO:+0200
TZNAME:CEST
END:DAYLIGHT
END:VTIMEZONE
END:VCALENDAR