BEGIN:VCALENDAR
VERSION:2.0
PRODID:-//wp-events-plugin.com//7.2.3.1//EN
TZID:Europe/Warsaw
X-WR-TIMEZONE:Europe/Warsaw
BEGIN:VEVENT
UID:16829@night4u.pl
DTSTART;TZID=Europe/Warsaw:20190526T210000
DTEND;TZID=Europe/Warsaw:20190527T040000
DTSTAMP:20190521T133548Z
URL:https://night4u.pl/wydarzenia/niedzielna-zabawa-w-a4-voice-cassio/
SUMMARY:Niedzielna Zabawa w A4 | Voice & Cassio
DESCRIPTION:Niedzielna Zabawa w Discoplex A4. Tej nocy wystąpi przed wami 
 na żywo zespół VOICE  oraz Dj  Cassio a na sali JAMIACA zagra DJ SANCHE
 Z!
ATTACH;FMTTYPE=image/jpeg:https://night4u.pl/wp-content/uploads/2019/05/41
 249_image_60955043_2820620331283341_7673045390261747712_n.jpg
CATEGORIES:opolskie
LOCATION:Discoplex A4\, Pietna\, Poland
GEO:50.451164;17.967762
X-APPLE-STRUCTURED-LOCATION;VALUE=URI;X-ADDRESS=Pietna\, Poland;X-APPLE-RAD
 IUS=100;X-TITLE=Discoplex A4:geo:50.451164,17.967762
END:VEVENT
BEGIN:VTIMEZONE
TZID:Europe/Warsaw
X-LIC-LOCATION:Europe/Warsaw
BEGIN:DAYLIGHT
DTSTART:20190331T030000
TZOFFSETFROM:+0100
TZOFFSETTO:+0200
TZNAME:CEST
END:DAYLIGHT
END:VTIMEZONE
END:VCALENDAR